BEGIN:VCALENDAR
VERSION:2.0
PRODID:-//Michael Kiesow Moore - ECPv6.15.13//NONSGML v1.0//EN
CALSCALE:GREGORIAN
METHOD:PUBLISH
X-ORIGINAL-URL:https://www.michaelkiesowmoore.org
X-WR-CALDESC:Events for Michael Kiesow Moore
REFRESH-INTERVAL;VALUE=DURATION:PT1H
X-Robots-Tag:noindex
X-PUBLISHED-TTL:PT1H
BEGIN:VTIMEZONE
TZID:America/Chicago
BEGIN:DAYLIGHT
TZOFFSETFROM:-0600
TZOFFSETTO:-0500
TZNAME:CDT
DTSTART:20230312T080000
END:DAYLIGHT
BEGIN:STANDARD
TZOFFSETFROM:-0500
TZOFFSETTO:-0600
TZNAME:CST
DTSTART:20231105T070000
END:STANDARD
BEGIN:DAYLIGHT
TZOFFSETFROM:-0600
TZOFFSETTO:-0500
TZNAME:CDT
DTSTART:20240310T080000
END:DAYLIGHT
BEGIN:STANDARD
TZOFFSETFROM:-0500
TZOFFSETTO:-0600
TZNAME:CST
DTSTART:20241103T070000
END:STANDARD
BEGIN:DAYLIGHT
TZOFFSETFROM:-0600
TZOFFSETTO:-0500
TZNAME:CDT
DTSTART:20250309T080000
END:DAYLIGHT
BEGIN:STANDARD
TZOFFSETFROM:-0500
TZOFFSETTO:-0600
TZNAME:CST
DTSTART:20251102T070000
END:STANDARD
END:VTIMEZONE
BEGIN:VEVENT
DTSTART;TZID=America/Chicago:20241122T190000
DTEND;TZID=America/Chicago:20241122T200000
DTSTAMP:20260424T104458
CREATED:20241117T223710Z
LAST-MODIFIED:20241117T223710Z
UID:1105-1732302000-1732305600@www.michaelkiesowmoore.org
SUMMARY:Poetry Reading at 2010 Artblok
DESCRIPTION:I will be reading with Morgan Grayce Willow and Jane Dickerson at part of open studios at Artblok. 2010 E. Hennepin Ave. The location of the reading is in the Bumbling Fools Mead space. Their building is closest to the parking lot entrance on 21st Ave. SE. https://www.bumblingfools.com\n 
URL:https://www.michaelkiesowmoore.org/event/poetry-reading-at-2010-artblok/
LOCATION:Artblok\, 2010 Hennepin Avenue E.\, Minneapolis\, MN\, United States
END:VEVENT
END:VCALENDAR