BEGIN:VCALENDAR
VERSION:2.0
PRODID:-//Michael Kiesow Moore - ECPv6.15.13//NONSGML v1.0//EN
CALSCALE:GREGORIAN
METHOD:PUBLISH
X-ORIGINAL-URL:https://www.michaelkiesowmoore.org
X-WR-CALDESC:Events for Michael Kiesow Moore
REFRESH-INTERVAL;VALUE=DURATION:PT1H
X-Robots-Tag:noindex
X-PUBLISHED-TTL:PT1H
BEGIN:VTIMEZONE
TZID:America/Chicago
BEGIN:DAYLIGHT
TZOFFSETFROM:-0600
TZOFFSETTO:-0500
TZNAME:CDT
DTSTART:20220313T080000
END:DAYLIGHT
BEGIN:STANDARD
TZOFFSETFROM:-0500
TZOFFSETTO:-0600
TZNAME:CST
DTSTART:20221106T070000
END:STANDARD
BEGIN:DAYLIGHT
TZOFFSETFROM:-0600
TZOFFSETTO:-0500
TZNAME:CDT
DTSTART:20230312T080000
END:DAYLIGHT
BEGIN:STANDARD
TZOFFSETFROM:-0500
TZOFFSETTO:-0600
TZNAME:CST
DTSTART:20231105T070000
END:STANDARD
BEGIN:DAYLIGHT
TZOFFSETFROM:-0600
TZOFFSETTO:-0500
TZNAME:CDT
DTSTART:20240310T080000
END:DAYLIGHT
BEGIN:STANDARD
TZOFFSETFROM:-0500
TZOFFSETTO:-0600
TZNAME:CST
DTSTART:20241103T070000
END:STANDARD
END:VTIMEZONE
BEGIN:VEVENT
DTSTART;TZID=America/Chicago:20230930T183000
DTEND;TZID=America/Chicago:20230930T200000
DTSTAMP:20260425T060352
CREATED:20230928T004201Z
LAST-MODIFIED:20230928T004201Z
UID:1086-1696098600-1696104000@www.michaelkiesowmoore.org
SUMMARY:Reading: Root Words Poetry and Music Series
DESCRIPTION:Join us on Saturday\, September 30th for a FREE Poetry & Music Series in collaboration with 100 Thousand Poets for Change. We have some fantastic Readers and Performers lined up.
URL:https://www.michaelkiesowmoore.org/event/reading-root-words-poetry-and-music-series/
LOCATION:Healing Roots Wellness Center\, 154 Summit St.\, River Falls\, WI\, 54022\, United States
END:VEVENT
END:VCALENDAR