BEGIN:VCALENDAR
VERSION:2.0
PRODID:-//Michael Kiesow Moore - ECPv6.15.13//NONSGML v1.0//EN
CALSCALE:GREGORIAN
METHOD:PUBLISH
X-WR-CALNAME:Michael Kiesow Moore
X-ORIGINAL-URL:https://www.michaelkiesowmoore.org
X-WR-CALDESC:Events for Michael Kiesow Moore
REFRESH-INTERVAL;VALUE=DURATION:PT1H
X-Robots-Tag:noindex
X-PUBLISHED-TTL:PT1H
BEGIN:VTIMEZONE
TZID:America/Chicago
BEGIN:DAYLIGHT
TZOFFSETFROM:-0600
TZOFFSETTO:-0500
TZNAME:CDT
DTSTART:20140309T080000
END:DAYLIGHT
BEGIN:STANDARD
TZOFFSETFROM:-0500
TZOFFSETTO:-0600
TZNAME:CST
DTSTART:20141102T070000
END:STANDARD
BEGIN:DAYLIGHT
TZOFFSETFROM:-0600
TZOFFSETTO:-0500
TZNAME:CDT
DTSTART:20150308T080000
END:DAYLIGHT
BEGIN:STANDARD
TZOFFSETFROM:-0500
TZOFFSETTO:-0600
TZNAME:CST
DTSTART:20151101T070000
END:STANDARD
BEGIN:DAYLIGHT
TZOFFSETFROM:-0600
TZOFFSETTO:-0500
TZNAME:CDT
DTSTART:20160313T080000
END:DAYLIGHT
BEGIN:STANDARD
TZOFFSETFROM:-0500
TZOFFSETTO:-0600
TZNAME:CST
DTSTART:20161106T070000
END:STANDARD
END:VTIMEZONE
BEGIN:VEVENT
DTSTART;TZID=America/Chicago:20150318T190000
DTEND;TZID=America/Chicago:20150318T203000
DTSTAMP:20260425T134356
CREATED:20150316T020412Z
LAST-MODIFIED:20150319T215946Z
UID:104-1426705200-1426710600@www.michaelkiesowmoore.org
SUMMARY:"An Evening of Poetry with Nodin Press"
DESCRIPTION:Reading: “An Evening of Poetry with Nodin Press\,” Merrian Park Library\, March 18\, 7-8:30 p.m.\, 1831 Marshall Ave\, Saint Paul \n \n 
URL:https://www.michaelkiesowmoore.org/event/reading-an-evening-of-poetry-with-nodin-press/
LOCATION:Merriam Park Library\, 1831 Marshall Ave.\, St. Paul\, MN\, United States
ATTACH;FMTTYPE=image/jpeg:https://www.michaelkiesowmoore.org/wp-content/uploads/2015/03/nodinPress.jpg
END:VEVENT
END:VCALENDAR