BEGIN:VCALENDAR
VERSION:2.0
PRODID:-//Michael Kiesow Moore - ECPv6.15.13//NONSGML v1.0//EN
CALSCALE:GREGORIAN
METHOD:PUBLISH
X-WR-CALNAME:Michael Kiesow Moore
X-ORIGINAL-URL:https://www.michaelkiesowmoore.org
X-WR-CALDESC:Events for Michael Kiesow Moore
REFRESH-INTERVAL;VALUE=DURATION:PT1H
X-Robots-Tag:noindex
X-PUBLISHED-TTL:PT1H
BEGIN:VTIMEZONE
TZID:America/Chicago
BEGIN:DAYLIGHT
TZOFFSETFROM:-0600
TZOFFSETTO:-0500
TZNAME:CDT
DTSTART:20140309T080000
END:DAYLIGHT
BEGIN:STANDARD
TZOFFSETFROM:-0500
TZOFFSETTO:-0600
TZNAME:CST
DTSTART:20141102T070000
END:STANDARD
BEGIN:DAYLIGHT
TZOFFSETFROM:-0600
TZOFFSETTO:-0500
TZNAME:CDT
DTSTART:20150308T080000
END:DAYLIGHT
BEGIN:STANDARD
TZOFFSETFROM:-0500
TZOFFSETTO:-0600
TZNAME:CST
DTSTART:20151101T070000
END:STANDARD
BEGIN:DAYLIGHT
TZOFFSETFROM:-0600
TZOFFSETTO:-0500
TZNAME:CDT
DTSTART:20160313T080000
END:DAYLIGHT
BEGIN:STANDARD
TZOFFSETFROM:-0500
TZOFFSETTO:-0600
TZNAME:CST
DTSTART:20161106T070000
END:STANDARD
BEGIN:DAYLIGHT
TZOFFSETFROM:-0600
TZOFFSETTO:-0500
TZNAME:CDT
DTSTART:20170312T080000
END:DAYLIGHT
BEGIN:STANDARD
TZOFFSETFROM:-0500
TZOFFSETTO:-0600
TZNAME:CST
DTSTART:20171105T070000
END:STANDARD
END:VTIMEZONE
BEGIN:VEVENT
DTSTART;TZID=America/Chicago:20161024T190000
DTEND;TZID=America/Chicago:20161024T220000
DTSTAMP:20260425T062452
CREATED:20161019T222830Z
LAST-MODIFIED:20161019T223753Z
UID:685-1477335600-1477346400@www.michaelkiesowmoore.org
SUMMARY:Workshop: Popup Writing Workshop at the Paranormal Art Project
DESCRIPTION:Artist Brandon Kuehn will give an artist talk on his solo exhibition\, The Paranormal Art Project\, then the Twin Cities Paranormal Society will lead a ghost hunt in the haunted Soap Factory building\, all of which can provide grist for writing. We will write in this space\, and end the evening with an impromptu reading.\nAll genres and writing levels welcome.
URL:https://www.michaelkiesowmoore.org/event/workshop-popup-writing-workshop-at-soap-factory/
LOCATION:Soap Factory\, 514 Second Street SE\, Minneapolis\, MN\, 55414\, United States
ATTACH;FMTTYPE=image/jpeg:https://www.michaelkiesowmoore.org/wp-content/uploads/2016/10/Soap-Factory-Popup-Writing-Workshop-flier.jpg
END:VEVENT
BEGIN:VEVENT
DTSTART;TZID=America/Chicago:20161015T140000
DTEND;TZID=America/Chicago:20161015T150000
DTSTAMP:20260425T062452
CREATED:20160930T212406Z
LAST-MODIFIED:20161001T235022Z
UID:666-1476540000-1476543600@www.michaelkiesowmoore.org
SUMMARY:Author Book Signing: Twin Cities Book Festival 2016
DESCRIPTION:I will be signing books at the iconic Twin Cities Book Festival sponsored by Rain Taxi. Look for me at the Nodin Press table at 2:00 pm.
URL:https://www.michaelkiesowmoore.org/event/author-book-signing-twin-cities-book-festival-2016/
LOCATION:Minnesota State Fairgrounds\, 1265 Snelling Ave.\, Saint Paul\, 55108\, United States
ATTACH;FMTTYPE=image/jpeg:https://www.michaelkiesowmoore.org/wp-content/uploads/2016/10/TC-Book-Festival.jpg
END:VEVENT
BEGIN:VEVENT
DTSTART;TZID=America/Chicago:20161013T060000
DTEND;TZID=America/Chicago:20161013T210000
DTSTAMP:20260425T062452
CREATED:20160930T211819Z
LAST-MODIFIED:20161001T235144Z
UID:664-1476338400-1476392400@www.michaelkiesowmoore.org
SUMMARY:Quatrefoil’s 30th Anniversary Party and Book Fair
DESCRIPTION:All are invited to a free anniversary party on Thursday\, Oct. 13\, 6-9 p.m.\, at Open Book (1011 South Washington Avenue\, Minneapolis) that will feature drinks\, appetizers\, presentations\, guest speakers\, dessert and coffee – all to celebrate 30 years of being the Twin Cities GLBT community library! \nThe evening will include a book fair with author signings.
URL:https://www.michaelkiesowmoore.org/event/quatrefoils-30th-anniversary-party-and-book-fair/
LOCATION:Open Book\, 1011 South Washington Avenue\, Minneapolis\, 55415\, United States
ATTACH;FMTTYPE=image/jpeg:https://www.michaelkiesowmoore.org/wp-content/uploads/2015/08/Quatrefoil-logo.jpg
END:VEVENT
BEGIN:VEVENT
DTSTART;TZID=America/Chicago:20161012T190000
DTEND;TZID=America/Chicago:20161012T203000
DTSTAMP:20260425T062452
CREATED:20160930T210620Z
LAST-MODIFIED:20161001T235216Z
UID:661-1476298800-1476304200@www.michaelkiesowmoore.org
SUMMARY:Birchbark Books Reading Series - October 12
DESCRIPTION:The Birchbark Books Reading returns Wednesday\, October 12 at 7:00 pm to begin our 8th season of readings. Reading will be James Bettendorf\, Leslie Matton-Flynn\, Venessa Fuentes\, and Linda LeGarde Grover.\nCurated by Michael Kiesow Moore and Ardie Medina\, the Birchbark Books Reading Series features new\, emerging\, and established writers quarterly September through June. \nFor more\, see http://www.michaelkiesowmoore.org/birchbark-books-reading-series/
URL:https://www.michaelkiesowmoore.org/event/birchbark-books-reading-series-october-12/
LOCATION:Bockley Gallery\, 2123 W 21st Street \, Minneapolis\, MN\, 55405\, United States
ATTACH;FMTTYPE=image/jpeg:https://www.michaelkiesowmoore.org/wp-content/uploads/2015/07/bbb-logo3.jpg
END:VEVENT
BEGIN:VEVENT
DTSTART;TZID=America/Chicago:20160709T100000
DTEND;TZID=America/Chicago:20160709T120000
DTSTAMP:20260425T062452
CREATED:20160602T184419Z
LAST-MODIFIED:20160602T184419Z
UID:629-1468058400-1468065600@www.michaelkiesowmoore.org
SUMMARY:Workshop: Writing Peace Into Your Life
DESCRIPTION:When we say we want peace in the world—peace in our own lives—what do we mean? In this workshop we will use writing to explore these questions. The workshop will include short readings\, opportunities for writing\, and discussion to consciously explore the nature of peace and how we can bring it into our lives. There will be something here for writers of all levels. We will use writing to make peace not just a noun\, but a verb.
URL:https://www.michaelkiesowmoore.org/event/workshop-writing-peace-into-your-life/
LOCATION:Banfill-Locke Art Center\, 6666 East River Road\, Fridley\, MN\, United States
END:VEVENT
BEGIN:VEVENT
DTSTART;TZID=America/Chicago:20160628T070000
DTEND;TZID=America/Chicago:20160628T200000
DTSTAMP:20260425T062452
CREATED:20160611T191830Z
LAST-MODIFIED:20160611T191830Z
UID:631-1467097200-1467144000@www.michaelkiesowmoore.org
SUMMARY:Reading: Queer Voices Special Pride Reading
DESCRIPTION:The longest running series of its kind in the nation\, Intermedia Arts’ Queer Voices reading series has been creating a safe space for LGBT writers and audiences to explore the day-to-day material of life without internal or external censorship for nearly a decade. Curated by Andrea Jenkins and John Medeiros.
URL:https://www.michaelkiesowmoore.org/event/reading-queer-voices-special-pride-reading/
LOCATION:Minneapolis Central Library\, 300 Nicollet Mall\, Minneapolis\, MN\, United States
END:VEVENT
BEGIN:VEVENT
DTSTART;TZID=America/Chicago:20160601T070000
DTEND;TZID=America/Chicago:20160601T203000
DTSTAMP:20260425T062452
CREATED:20160505T030028Z
LAST-MODIFIED:20160523T233043Z
UID:606-1464764400-1464813000@www.michaelkiesowmoore.org
SUMMARY:Birchbark Books Reading Series
DESCRIPTION:The Birchbark Books Reading Series concludes it’s seventh season of readings on Wednesday\, June 1 at 7:00 p.m. Readers will be James D. Autio\, Sharon Chmielarz\, Kasey Payette\, and Lynette Reini-Grandell\nCurated by Michael Kiesow Moore and Ardie Medina\, the Birchbark Books Reading Series features new\, emerging\, and established writers quarterly September through June. \nFor more\, see http://www.michaelkiesowmoore.org/birchbark-books-reading-series/ \n 
URL:https://www.michaelkiesowmoore.org/event/birchbark-books-reading-series-4/
LOCATION:Birchbark Books\, 2115 West 21st St\, Minneapolis\, 55405
END:VEVENT
BEGIN:VEVENT
DTSTART;TZID=America/Chicago:20160521T090000
DTEND;TZID=America/Chicago:20160521T163000
DTSTAMP:20260425T062452
CREATED:20160313T183925Z
LAST-MODIFIED:20160313T184630Z
UID:583-1463821200-1463848200@www.michaelkiesowmoore.org
SUMMARY:Poetry Workshop: Unlocking Your Creativity with Image and Metaphor
DESCRIPTION:Some of the most creative aspects of poetry writing is making good use of images and metaphor. These can be the keys to unlocking your own imagination\, as well as that of your reader. We will look at how a few master poets used images and metaphor such as Pablo Neruda\, Tomas Tranströmer\, and Jim Moore. And then we’ll give it a try ourselves with opportunities to write. The workshop is for all levels of poetry makers. \nThis is an hour long workshop. Exact time TBD. To register\, go to http://www.banfill-locke.org/classes/take-a-class/
URL:https://www.michaelkiesowmoore.org/event/poetry-workshop-unlocking-your-creativity-with-image-and-metaphor/
LOCATION:Banfill-Locke Art Center\, 6666 East River Road\, Fridley\, MN\, United States
END:VEVENT
BEGIN:VEVENT
DTSTART;TZID=America/Chicago:20160420T190000
DTEND;TZID=America/Chicago:20160420T203000
DTSTAMP:20260425T062452
CREATED:20160123T215029Z
LAST-MODIFIED:20160424T211316Z
UID:571-1461178800-1461184200@www.michaelkiesowmoore.org
SUMMARY:Birchbark Books Reading Series
DESCRIPTION:The Birchbark Books Reading Series will continue its 7th season on April 20. To celebrate National Poetry Month we will feature poets Julia Klatt Singer\, Norita Dittberner-Jax\, Dara Syrkin\, and Greg Watson.\nCurated by Michael Kiesow Moore and Ardie Medina\, the Birchbark Books Reading Series features new\, emerging\, and established writers quarterly September through May. \nJulia Klatt Singer writes poems\, is the poet in residence at Grace Nursery School\, and a rostered artist for Compas. She’s author of three books of poetry\, her most recent\, Untranslatable\, and co-author of Twelve Branches: Stories from St. Paul. She’s co-written over a dozen songs with composers Tim Takach and Jocelyn Hagen. \nNorita Dittberner-Jax is an award-winning poet whose work has been widely published in small press. Her collections of poetry include\, Stopping For Breath\, (Nodin Press); The Watch (Whistling Shade Press); Longing For Home (Pudding House Press; and What They Always Were (New Rivers Press). She is one of the poets in the anthology\, 33 Minnesota Poets as well as To Sing Along the Way\, Minnesota Women Poets from Pre-territorial Days to the Present.  She is one of the poetry editors for Red Bird Chapbooks. \nDara Syrkin counts her lucky stars every day. One piece of great good fortune is to have work included in the Nodin Poetry Anthology. Dara’s poetry revolves around ancestors\, blue roads\, encounters with strangers\, and her respect for seeds. \nGreg Watson’s work has appeared in numerous literary journals and anthologies\, and has been featured on Garrison Keillor’s Writer’s Almanac. His most recent collections are What Music Remains\, and All the World at Once: New and Selected Poems\, both published by Nodin Press.
URL:https://www.michaelkiesowmoore.org/event/birchbark-books-reading-series-3/
LOCATION:Birchbark Books\, 2115 West 21st St\, Minneapolis\, 55405
END:VEVENT
BEGIN:VEVENT
DTSTART;TZID=America/Chicago:20160409T030000
DTEND;TZID=America/Chicago:20160409T160000
DTSTAMP:20260425T062452
CREATED:20160328T160534Z
LAST-MODIFIED:20160422T202505Z
UID:590-1460170800-1460217600@www.michaelkiesowmoore.org
SUMMARY:Reading: Eat My Words Bookstore
DESCRIPTION:Celebrate National Poetry Month at Eat My Words!  I will be reading from my book\, What to Pray For. New work\, too!\n \n  \n  \n  \n  \n  \n 
URL:https://www.michaelkiesowmoore.org/event/reading-eat-my-words-bookstore/
LOCATION:MN
END:VEVENT
BEGIN:VEVENT
DTSTART;TZID=America/Chicago:20160218T190000
DTEND;TZID=America/Chicago:20160218T203000
DTSTAMP:20260425T062452
CREATED:20160123T214705Z
LAST-MODIFIED:20160123T220914Z
UID:569-1455822000-1455827400@www.michaelkiesowmoore.org
SUMMARY:Reading: Common Good Books
DESCRIPTION:An evening of poetry with MaryAnn Corbett (Mid Evil) and Anna George Meek (The Genome Rhapsodies). For more\, see http://www.commongoodbooks.com/event/evening-poetry-maryann-corbett-reads-mid-evil-anna-george-meek-reads-genome-rhapsodies-and
URL:https://www.michaelkiesowmoore.org/event/reading-common-good-books/
LOCATION:MN
END:VEVENT
BEGIN:VEVENT
DTSTART;TZID=America/Chicago:20160108T193000
DTEND;TZID=America/Chicago:20160108T210000
DTSTAMP:20260425T062452
CREATED:20151208T223218Z
LAST-MODIFIED:20160123T215706Z
UID:564-1452281400-1452286800@www.michaelkiesowmoore.org
SUMMARY:Reading: Banfill-Locke Arts Center
DESCRIPTION:This reading launches the 2016 season Banfill-Locke readings. I will be reading poetry with Michael Dennis Browne.
URL:https://www.michaelkiesowmoore.org/event/reading-banfill-locke-arts-center/
LOCATION:Banfill-Locke Art Center\, 6666 East River Road\, Fridley\, MN\, United States
END:VEVENT
BEGIN:VEVENT
DTSTART;TZID=America/Chicago:20151201T190000
DTEND;TZID=America/Chicago:20151201T210000
DTSTAMP:20260425T062452
CREATED:20150709T213340Z
LAST-MODIFIED:20151122T180038Z
UID:492-1448996400-1449003600@www.michaelkiesowmoore.org
SUMMARY:Intermedia Arts "Queer Voices" reading
DESCRIPTION:  \n  \n  \nI will be reading with Rachel Gold\, Christine Marie\, and William Reichard
URL:https://www.michaelkiesowmoore.org/event/intermedia-arts-queer-voices-reading/
LOCATION:Intermedia Arts\, 2822 Lyndale Ave S\, Minneapolis\, MN\, 55408\, United States
ATTACH;FMTTYPE=image/jpeg:https://www.michaelkiesowmoore.org/wp-content/uploads/2015/07/QueerVoices.jpg
END:VEVENT
BEGIN:VEVENT
DTSTART;TZID=America/Chicago:20151121T140000
DTEND;TZID=America/Chicago:20151121T160000
DTSTAMP:20260425T062452
CREATED:20151104T170305Z
LAST-MODIFIED:20151104T170305Z
UID:553-1448114400-1448121600@www.michaelkiesowmoore.org
SUMMARY:Survivor of Suicide Loss Day at SubText Books
DESCRIPTION:SubText books is hosting “Survivor of Suicide Loss Day” sponsored by Canvas Health. I will be reading my poetry on bullying and teen suicide from my new book “What To Pray For”. Also reading will be poet Matt Rasmussen.
URL:https://www.michaelkiesowmoore.org/event/survivor-of-suicide-loss-day-at-subtext-books/
LOCATION:SubText Bookstore\, 6 West Fifth Street\, Saint Paul\, 55102\, United States
ATTACH;FMTTYPE=image/png:https://www.michaelkiesowmoore.org/wp-content/uploads/2015/09/subtext.png
END:VEVENT
BEGIN:VEVENT
DTSTART;TZID=America/Chicago:20151121T120000
DTEND;TZID=America/Chicago:20151121T140000
DTSTAMP:20260425T062452
CREATED:20150626T210816Z
LAST-MODIFIED:20151122T180859Z
UID:482-1448107200-1448114400@www.michaelkiesowmoore.org
SUMMARY:Saint Paul Almanac Reading
DESCRIPTION:The Saint Paul Almanac celebrated its 10th anniversary with a special edition of the 2016 Saint Paul Almanac. \nThe Amsterdam Bar and Hall made for a great venue for a reading!
URL:https://www.michaelkiesowmoore.org/event/saint-paul-almanac-book-launch-and-reading/
LOCATION:Amsterdam Bar and Hall\, 6 W 6th St\, Saint Paul\, 55102\, United States
ATTACH;FMTTYPE=image/jpeg:https://www.michaelkiesowmoore.org/wp-content/uploads/2015/07/SPA-logo2.jpg
END:VEVENT
BEGIN:VEVENT
DTSTART;TZID=America/Chicago:20151118T070000
DTEND;TZID=America/Chicago:20151118T203000
DTSTAMP:20260425T062452
CREATED:20151015T212248Z
LAST-MODIFIED:20151106T222853Z
UID:549-1447830000-1447878600@www.michaelkiesowmoore.org
SUMMARY:Birchbark Books Reading Series
DESCRIPTION:The Birchbark Books Reading Series continues its 7th season on November 18. Reading will be Paula Cisewski\, Brian Baumgart\, Anna Meek\, and Colleen Casey. \nCurated by Michael Kiesow Moore and Ardie Medina\, the Birchbark Books Reading Series features new\, emerging\, and established writers quarterly September through May. \nFor more\, see http://www.michaelkiesowmoore.org/birchbark-books-reading-series/
URL:https://www.michaelkiesowmoore.org/event/birchbark-books-reading-series-2/
LOCATION:Bockley Gallery\, 2123 W 21st Street \, Minneapolis\, MN\, 55405\, United States
ATTACH;FMTTYPE=image/jpeg:https://www.michaelkiesowmoore.org/wp-content/uploads/2015/07/bbb-logo3.jpg
END:VEVENT
BEGIN:VEVENT
DTSTART;TZID=America/Chicago:20151024T130000
DTEND;TZID=America/Chicago:20151024T170000
DTSTAMP:20260425T062452
CREATED:20150807T165331Z
LAST-MODIFIED:20150905T174913Z
UID:509-1445691600-1445706000@www.michaelkiesowmoore.org
SUMMARY:Quatrefoil Library Author Series
DESCRIPTION:Minnesota’s LGBT library hosts local authors to read from their recently published books and chat with the audience.
URL:https://www.michaelkiesowmoore.org/event/quatrefoil-library-mens-author-series/
LOCATION:MN
ATTACH;FMTTYPE=image/jpeg:https://www.michaelkiesowmoore.org/wp-content/uploads/2015/08/Quatrefoil-logo.jpg
END:VEVENT
BEGIN:VEVENT
DTSTART;TZID=America/Chicago:20151017T100000
DTEND;TZID=America/Chicago:20151017T170000
DTSTAMP:20260425T062452
CREATED:20150925T193023Z
LAST-MODIFIED:20151018T012219Z
UID:537-1445076000-1445101200@www.michaelkiesowmoore.org
SUMMARY:Author Book Signing: Twin Cities Book Festival
DESCRIPTION:I will be signing books at the iconic Twin Cities Book Festival sponsored by Rain Taxi. Exact time TBD. \n \nStanding with Morgan Grayce Willow and our publisher Norton Stillman. \n  \n  \n 
URL:https://www.michaelkiesowmoore.org/event/author-book-signing-twin-cities-book-festival/
LOCATION:MN
END:VEVENT
BEGIN:VEVENT
DTSTART;TZID=America/Chicago:20151014T190000
DTEND;TZID=America/Chicago:20151014T203000
DTSTAMP:20260425T062452
CREATED:20150904T163007Z
LAST-MODIFIED:20151015T211726Z
UID:516-1444849200-1444854600@www.michaelkiesowmoore.org
SUMMARY:Birchbark Books Reading Series
DESCRIPTION:The Birchbark Books Reading Series begins its 7th season on October 14 at 7:00 p.m. Reading will be Cheryl K. Minnema\, Eric McKendry\, Maryam Marne Zafar\, and Thomas R. Smith. \nCurated by Michael Kiesow Moore and Ardie Medina\, the Birchbark Books Reading Series features new\, emerging\, and established writers quarterly September through May. \n \nStanding with art in the Bockley Gallery.
URL:https://www.michaelkiesowmoore.org/event/birchbark-books-reading-series/
LOCATION:Bockley Gallery\, 2123 W 21st Street \, Minneapolis\, MN\, 55405\, United States
ATTACH;FMTTYPE=image/jpeg:https://www.michaelkiesowmoore.org/wp-content/uploads/2015/07/bbb-logo3.jpg
END:VEVENT
BEGIN:VEVENT
DTSTART;TZID=America/Chicago:20151013T190000
DTEND;TZID=America/Chicago:20151013T200000
DTSTAMP:20260425T062452
CREATED:20150905T180000Z
LAST-MODIFIED:20151015T211506Z
UID:517-1444762800-1444766400@www.michaelkiesowmoore.org
SUMMARY:SubText Bookstore Reading
DESCRIPTION:I will read with poet Greg Watson from our new books. \n \nAlways fun to see your name on the board! \n  \n  \n 
URL:https://www.michaelkiesowmoore.org/event/subtext-bookstore-reading/
LOCATION:SubText Bookstore\, 6 West Fifth Street\, Saint Paul\, 55102\, United States
ATTACH;FMTTYPE=image/png:https://www.michaelkiesowmoore.org/wp-content/uploads/2015/09/subtext.png
END:VEVENT
BEGIN:VEVENT
DTSTART;TZID=America/Chicago:20150920T140000
DTEND;TZID=America/Chicago:20150920T160000
DTSTAMP:20260425T062452
CREATED:20150905T181943Z
LAST-MODIFIED:20150905T181943Z
UID:521-1442757600-1442764800@www.michaelkiesowmoore.org
SUMMARY:Peace Site Dedication and Reading
DESCRIPTION:To honor Open Book’s place in the global community and its promotion of intercultural understanding\, and in recognition of the connecting power of literature\, Open Book will be dedicated as an International Peace Site at a ceremony Sunday\, September 20\, 2–4 p.m. \nOrganized by the Loft’s Peace and Social Justice Writers Group\, along with Open Book’s member organizations\, The Loft Literary Center\, Minnesota Center for Book Arts\, and Milkweed Editions\, the ceremony will celebrate and link the forces of peace and literature. Worldwide observance of International Day of Peace is Monday\, September 21. \nThe designation as an International Peace Site grants unique status to Open Book and pays tribute to the writers\, book artists\, and publishers that are active in the community\, and on the world scene. Sponsored by World Citizen\, and shared by over 700 other places in the world\, this designation strengthens Open Book’s commitment to a peaceful learning and working environment. World Citizen will provide online and onsite resources for Peace Education as a basis for classroom discussions around cultural understanding\, human rights\, conflict resolution\, peace\, and social justice. The Loft Literary Center\, at Open Book\, believes that “dialogue among readers and writers enriches our lives\, our society\, and our world.” \nBesides showcasing the work underway at Open Book\, the event includes the dedication ceremony and an open house. The writing groups Equilibrium\, TGI Frybread Native American Writers Group\, and the Peace and Social Justice Writers Group will offer readings. Multimedia works by A Peace of My Mindand “the f word\,” a program of The Forgiveness Project\, will be on display. Twin Cities-based\, American singer\, songwriter\, and activist Larry Long will be the musical guest. Matchbook and bookmark making are among activities suitable for families\, offered by the Minnesota Center for Book Arts. Please join all those committed to world peace and to the transforming power of literature for this exciting celebration on Sunday\, at 2 p.m. The exhibits will open at 1 p.m. \nThe Peace and Social Justice Writers Group has actively promoted peace-making at Open Book since 2006. In the words of Jocelyn Hale\, The Loft Literary Center’s current Executive Director\, “Literary and artistic expression lead to empathy.” Empathy leads to a caring\, connected\, and conscious community. Open Book fosters that sense of community. \nPlease join us for the celebration on Sunday\, September 20 at Open Book\, 1011 Washington Avenue South\, Minneapolis\, in the Performance Hall. \nFor more information about the Open Book dedication event or about the Peace and Social Justice Writers Group\, please contact Philip Lund at 612-819-1890 or at loftpeacewriters@gmail.com.
URL:https://www.michaelkiesowmoore.org/event/peace-site-dedication-and-reading/
LOCATION:Loft Literary Center\, 1011 Washington Avenue South\, Minneapolis\, MN\, 55415\, United States
ATTACH;FMTTYPE=image/png:https://www.michaelkiesowmoore.org/wp-content/uploads/2015/09/WorldCitizen.png
END:VEVENT
BEGIN:VEVENT
DTSTART;TZID=America/Chicago:20150625T190000
DTEND;TZID=America/Chicago:20150625T200000
DTSTAMP:20260425T062452
CREATED:20150413T174333Z
LAST-MODIFIED:20150626T204134Z
UID:425-1435258800-1435262400@www.michaelkiesowmoore.org
SUMMARY:Har Mar Barnes & Noble reading
DESCRIPTION:Nodin Press authors read at the Har Mar Barnes & Noble\, with Michael Kiesow Moore\, Bart Sutter\, and Greg Watson. \n 
URL:https://www.michaelkiesowmoore.org/event/barnes-noble-reading/
LOCATION:Barnes & Noble\, 2100 Snelling Ave N\, Roseville\, MN\, 55113\, United States
ATTACH;FMTTYPE=image/gif:https://www.michaelkiesowmoore.org/wp-content/uploads/2015/04/logo-barnes-noble.gif
END:VEVENT
BEGIN:VEVENT
DTSTART;TZID=America/Chicago:20150624T190000
DTEND;TZID=America/Chicago:20150624T203000
DTSTAMP:20260425T062452
CREATED:20150529T165500Z
LAST-MODIFIED:20150708T190226Z
UID:464-1435172400-1435177800@www.michaelkiesowmoore.org
SUMMARY:Lowertown Reading Jams -  ArTransForms
DESCRIPTION:As we strive to make a better world\, be it in our personal journeys or to make a more equitable society\, art-making plays a crucial—even transformative—role. This reading will ask\, How does art transform our lives? Can writing a poem or making a painting act as an agent of social change? Does the process of making art transform what we are given? \nAt the Black Dog Cafe\, presenters and audiences both ready to TransForm the world!\n 
URL:https://www.michaelkiesowmoore.org/event/lowertown-reading-jams-artransforms/
LOCATION:MN
END:VEVENT
BEGIN:VEVENT
DTSTART;TZID=America/Chicago:20150611T193000
DTEND;TZID=America/Chicago:20150611T203000
DTSTAMP:20260425T062452
CREATED:20150514T203716Z
LAST-MODIFIED:20150514T203716Z
UID:459-1434051000-1434054600@www.michaelkiesowmoore.org
SUMMARY:Midstream Reading Series
DESCRIPTION:Reading will be Michael Kiesow Moore\, Ash Cardona\, Brad Liening\, and Roslye Ultan
URL:https://www.michaelkiesowmoore.org/event/midstream-reading-series/
LOCATION:Blue Moon building\, 3820 E. Lake Street\, Minneapolis\, United States
END:VEVENT
BEGIN:VEVENT
DTSTART;TZID=America/Chicago:20150609T190000
DTEND;TZID=America/Chicago:20150609T203000
DTSTAMP:20260425T062452
CREATED:20150413T165929Z
LAST-MODIFIED:20150626T203916Z
UID:417-1433876400-1433881800@www.michaelkiesowmoore.org
SUMMARY:Nodin Press reading at the Loft
DESCRIPTION:Book publication party for Nodin Press authors\, with Michael Kiesow Moore\, Bart Sutter\, and Greg Watson. \nUnder the marquee for the big reading\nReading from my new book at the Book Launch.\nBook cake!\n  \n  \n 
URL:https://www.michaelkiesowmoore.org/event/nodin-press-reading-at-the-loft/
LOCATION:Loft Literary Center\, 1011 Washington Avenue South\, Minneapolis\, MN\, 55415\, United States
ATTACH;FMTTYPE=image/png:https://www.michaelkiesowmoore.org/wp-content/uploads/2015/04/loft_facebook-e1428943212761.png
END:VEVENT
BEGIN:VEVENT
DTSTART;TZID=America/Chicago:20150527T080000
DTEND;TZID=America/Chicago:20150527T170000
DTSTAMP:20260425T062452
CREATED:20150427T194656Z
LAST-MODIFIED:20150528T155651Z
UID:449-1432713600-1432746000@www.michaelkiesowmoore.org
SUMMARY:Birchbark Books Reading Series
DESCRIPTION:Hanging out with Minnesota legend Tom Hennen\nThe next Birchbark Books Reading Series takes place on May 27 with readers Linda LeGarde Grover\, Tom Hennen\, Ilze Klavina Mueller\, and Greg Watson. \nBring a friend! \n 
URL:https://www.michaelkiesowmoore.org/event/reading-birchbark-books-reading-series/
LOCATION:Bockley Gallery\, 2123 W 21st Street \, Minneapolis\, MN\, 55405\, United States
END:VEVENT
BEGIN:VEVENT
DTSTART;TZID=America/Chicago:20150512T190000
DTEND;TZID=America/Chicago:20150512T203000
DTSTAMP:20260425T062452
CREATED:20150413T160511Z
LAST-MODIFIED:20150514T202629Z
UID:410-1431457200-1431462600@www.michaelkiesowmoore.org
SUMMARY:"Voices we Ignore": A reading of the Cracked Walnut Literary Festival 2015
DESCRIPTION:A reading of the Cracked Walnut Literary Festival 2015 featuring Aundria Morgan\, Deborah Keenan\, Jennifer Bowen Hicks\, Louis Murphy\, Ethna Mckiernan\, and Michael Kiesow Moore.
URL:https://www.michaelkiesowmoore.org/event/voices-we-ignore-a-reading-of-the-cracked-walnut-literary-festival-2015/
LOCATION:Underground Music Cafe\, 579 Hamline Avenue North\, Falcon Heights\, MN\, 55108\, United States
ATTACH;FMTTYPE=image/jpeg:https://www.michaelkiesowmoore.org/wp-content/uploads/2015/04/cw-banner.jpg
END:VEVENT
BEGIN:VEVENT
DTSTART;TZID=America/Chicago:20150421T193000
DTEND;TZID=America/Chicago:20150421T210000
DTSTAMP:20260425T062452
CREATED:20150420T211930Z
LAST-MODIFIED:20150422T161134Z
UID:432-1429644600-1429650000@www.michaelkiesowmoore.org
SUMMARY:Carol Connolly's Readings by Writers Series
DESCRIPTION:The April event celebrates the new Nodin Poetry Anthology. A cavalcade of talented readers will be there. Also in the mix will be Michael Kiesow Moore reading from his new book published by Nodin\, “What to Pray For.” \nWe had a raucous night celebrating National Poetry Month. A night to remember for the literary history books! A big thank you to Carol Connolly\, the crew behind the scenes\, and Norton Stillman\, publisher!
URL:https://www.michaelkiesowmoore.org/event/carol-connollys-readings-by-writers-series/
LOCATION:MN
ATTACH;FMTTYPE=image/jpeg:https://www.michaelkiesowmoore.org/wp-content/uploads/2015/04/CarolConnollyReadingApr2015.jpg
END:VEVENT
BEGIN:VEVENT
DTSTART;TZID=America/Chicago:20150411T103000
DTEND;TZID=America/Chicago:20150411T120000
DTSTAMP:20260425T062452
CREATED:20150316T185115Z
LAST-MODIFIED:20150318T005409Z
UID:198-1428748200-1428753600@www.michaelkiesowmoore.org
SUMMARY:"The State You're In" Reading by MN writers from Nodin Press
DESCRIPTION:Reading:\n“The State You’re In: A Reading by Minnesota Writers from Nodin Press” \nAWP Conference\, April 11\, 10:30 am \nMinneapolis Convention Center \nRm 100 B & C
URL:https://www.michaelkiesowmoore.org/event/the-state-youre-in/
LOCATION:Minneapolis Convention Center\, 1301 2nd Ave S\, Minneapolis\, MN\, 55403\, United States
ATTACH;FMTTYPE=image/png:https://www.michaelkiesowmoore.org/wp-content/uploads/2015/03/Screen-Shot-2015-03-17-at-1.33.31-PM.png
END:VEVENT
BEGIN:VEVENT
DTSTART;VALUE=DATE:20150410
DTEND;VALUE=DATE:20150619
DTSTAMP:20260425T062452
CREATED:20150316T043352Z
LAST-MODIFIED:20150317T204138Z
UID:144-1428624000-1434671999@www.michaelkiesowmoore.org
SUMMARY:"Unforseen" exhibit
DESCRIPTION:“Unforeseen” exhibit at GALLERY ONE TractorWorks\, 800 Washington Ave N. Exhibit runs to June 19.
URL:https://www.michaelkiesowmoore.org/event/unforseen-exhibit/
LOCATION:MN
ATTACH;FMTTYPE=image/jpeg:https://www.michaelkiesowmoore.org/wp-content/uploads/2015/03/Unforeseen.jpg
END:VEVENT
END:VCALENDAR