BEGIN:VCALENDAR
VERSION:2.0
PRODID:-//Michael Kiesow Moore - ECPv6.15.13//NONSGML v1.0//EN
CALSCALE:GREGORIAN
METHOD:PUBLISH
X-WR-CALNAME:Michael Kiesow Moore
X-ORIGINAL-URL:https://www.michaelkiesowmoore.org
X-WR-CALDESC:Events for Michael Kiesow Moore
REFRESH-INTERVAL;VALUE=DURATION:PT1H
X-Robots-Tag:noindex
X-PUBLISHED-TTL:PT1H
BEGIN:VTIMEZONE
TZID:America/Chicago
BEGIN:DAYLIGHT
TZOFFSETFROM:-0600
TZOFFSETTO:-0500
TZNAME:CDT
DTSTART:20160313T080000
END:DAYLIGHT
BEGIN:STANDARD
TZOFFSETFROM:-0500
TZOFFSETTO:-0600
TZNAME:CST
DTSTART:20161106T070000
END:STANDARD
BEGIN:DAYLIGHT
TZOFFSETFROM:-0600
TZOFFSETTO:-0500
TZNAME:CDT
DTSTART:20170312T080000
END:DAYLIGHT
BEGIN:STANDARD
TZOFFSETFROM:-0500
TZOFFSETTO:-0600
TZNAME:CST
DTSTART:20171105T070000
END:STANDARD
BEGIN:DAYLIGHT
TZOFFSETFROM:-0600
TZOFFSETTO:-0500
TZNAME:CDT
DTSTART:20180311T080000
END:DAYLIGHT
BEGIN:STANDARD
TZOFFSETFROM:-0500
TZOFFSETTO:-0600
TZNAME:CST
DTSTART:20181104T070000
END:STANDARD
BEGIN:DAYLIGHT
TZOFFSETFROM:-0600
TZOFFSETTO:-0500
TZNAME:CDT
DTSTART:20190310T080000
END:DAYLIGHT
BEGIN:STANDARD
TZOFFSETFROM:-0500
TZOFFSETTO:-0600
TZNAME:CST
DTSTART:20191103T070000
END:STANDARD
BEGIN:DAYLIGHT
TZOFFSETFROM:-0600
TZOFFSETTO:-0500
TZNAME:CDT
DTSTART:20200308T080000
END:DAYLIGHT
BEGIN:STANDARD
TZOFFSETFROM:-0500
TZOFFSETTO:-0600
TZNAME:CST
DTSTART:20201101T070000
END:STANDARD
END:VTIMEZONE
BEGIN:VEVENT
DTSTART;TZID=America/Chicago:20190914T163000
DTEND;TZID=America/Chicago:20190914T180000
DTSTAMP:20260423T100525
CREATED:20190614T223535Z
LAST-MODIFIED:20190614T223535Z
UID:914-1568478600-1568484000@www.michaelkiesowmoore.org
SUMMARY:Reading: Nemeth Art Center in Park Rapids
DESCRIPTION:Join me at the Nemeth Art Center Center in Park Rapids\, MN for “Second Saturday Happening” as I join musicians and poets for an afternoon of words and music.
URL:https://www.michaelkiesowmoore.org/event/reading-nemeth-art-center-in-park-rapids/
LOCATION:Nemeth Art Center\, 301 Court Avenue\, Park Rapids\, MN\, 56470\, United States
END:VEVENT
BEGIN:VEVENT
DTSTART;TZID=America/Chicago:20190801T190000
DTEND;TZID=America/Chicago:20190801T203000
DTSTAMP:20260423T100525
CREATED:20190614T222805Z
LAST-MODIFIED:20190614T222805Z
UID:909-1564686000-1564691400@www.michaelkiesowmoore.org
SUMMARY:Reading: Queer Voices anthology at East Side Freedom Library
DESCRIPTION:Join me at the East Side Freedom Library as we we celebrate the publication of Queer Voices\, published by the Minnesota Historical Society Press. I and other readers will read our own work as well as our selections presented in the anthology.
URL:https://www.michaelkiesowmoore.org/event/reading-queer-voices-anthology-at-east-side-freedom-library/
LOCATION:East Side Freedom Library\, 1105 Greenbrier Street\, Saint Paul\, MN\, 55106\, United States
END:VEVENT
BEGIN:VEVENT
DTSTART;TZID=America/Chicago:20190618T190000
DTEND;TZID=America/Chicago:20190618T203000
DTSTAMP:20260423T100525
CREATED:20190614T221630Z
LAST-MODIFIED:20190614T221630Z
UID:907-1560884400-1560889800@www.michaelkiesowmoore.org
SUMMARY:Reading: Lovejets anthology launch at Quatrefoil Library
DESCRIPTION:Join us for Raymond Luczak’s book launch of Lovejets: Queer Male Poets on 200 years of Walt Whitman\, a Walt Whitman-inspired poetry anthology. I will join other local poets to read our work selected for the anthology as well as present poetry by those who are out of town. Raymond will also read from his new novel. Free\n 
URL:https://www.michaelkiesowmoore.org/event/reading-lovejets-anthology-launch-at-quatrefoil-library/
LOCATION:Quatrefoil Library\, 1220 E Lake St\, Minneapolis\, MN\, 55407\, United States
END:VEVENT
BEGIN:VEVENT
DTSTART;TZID=America/Chicago:20190608T100000
DTEND;TZID=America/Chicago:20190608T130000
DTSTAMP:20260423T100525
CREATED:20190519T010916Z
LAST-MODIFIED:20190519T010916Z
UID:902-1559988000-1559998800@www.michaelkiesowmoore.org
SUMMARY:Workshop: Writing Mindfulness
DESCRIPTION:We will explore the connections between the practice of mindfulness meditation and the act of writing from the heart. Making use of writing exercises and guided meditations we will give attention to ourselves\, our world\, and everything the present moment offers us. All writing skill levels are welcome. You do not need experience with meditation beforehand.\n  \n 
URL:https://www.michaelkiesowmoore.org/event/workshop-writing-mindfulness-2/
LOCATION:Banfill-Locke Art Center\, 6666 East River Road\, Fridley\, MN\, United States
END:VEVENT
BEGIN:VEVENT
DTSTART;TZID=America/Chicago:20190522T190000
DTEND;TZID=America/Chicago:20190522T203000
DTSTAMP:20260423T100525
CREATED:20190519T002320Z
LAST-MODIFIED:20190519T002320Z
UID:896-1558551600-1558557000@www.michaelkiesowmoore.org
SUMMARY:Reading: Birchbark Books Reading Series
DESCRIPTION:The spring season of readings at Birchbark Books continues on Wednesday\, May 22. Reading will be Jim Bohen\, Miriam Weinstein\, Ken McCullough\, and Lynette Reini-Grandell. Please join us!\n  \n 
URL:https://www.michaelkiesowmoore.org/event/reading-birchbark-books-reading-series-6/
LOCATION:Bockley Gallery\, 2123 W 21st Street \, Minneapolis\, MN\, 55405\, United States
END:VEVENT
BEGIN:VEVENT
DTSTART;TZID=America/Chicago:20190426T183000
DTEND;TZID=America/Chicago:20190426T210000
DTSTAMP:20260423T100525
CREATED:20190416T215117Z
LAST-MODIFIED:20190416T215117Z
UID:890-1556303400-1556312400@www.michaelkiesowmoore.org
SUMMARY:Reading: Poet-Artist Collaboration\, at Crossings in Zumbrota\, MN
DESCRIPTION:Join me as poets selected to participate in the 18th annual Poet-Artist Collaboration at Crossings at Carnegie present their work as the artwork made to go with our poems are projected on the silver screen during the reading.
URL:https://www.michaelkiesowmoore.org/event/reading-poet-artist-collaboration-at-crossings-in-zumbrota-mn/
LOCATION:Crossings at Carnegie\, 320 East Ave.\, Zumbrota\, 55992\, United States
END:VEVENT
BEGIN:VEVENT
DTSTART;TZID=America/Chicago:20190424T190000
DTEND;TZID=America/Chicago:20190424T203000
DTSTAMP:20260423T100525
CREATED:20190416T214546Z
LAST-MODIFIED:20190416T214546Z
UID:888-1556132400-1556137800@www.michaelkiesowmoore.org
SUMMARY:Reading: Birchbark Books Reading Series
DESCRIPTION:The Spring season of readings for the Birchbark Books Reading Series starts on April 24 at 7:00 pm at the Bockley Gallery (near Birchbark Books).\nReading will be Reading will be LeRoy N. Sorenson\, Rosemary Davis\, Carla Hagen\, and Kate Lynn Hibbard. \nBirchbark Books is located at 2115 West 21st Street\, Minneapolis\, MN 55405. (612) 374-4023
URL:https://www.michaelkiesowmoore.org/event/reading-birchbark-books-reading-series-5/
LOCATION:Bockley Gallery\, 2123 W 21st Street \, Minneapolis\, MN\, 55405\, United States
END:VEVENT
BEGIN:VEVENT
DTSTART;TZID=America/Chicago:20190420T090000
DTEND;TZID=America/Chicago:20190420T130000
DTSTAMP:20260423T100525
CREATED:20190416T214044Z
LAST-MODIFIED:20190416T214044Z
UID:886-1555750800-1555765200@www.michaelkiesowmoore.org
SUMMARY:Workshop: Writing Mindfulness
DESCRIPTION:We will explore the connections between the practice of mindfulness meditation and the act of writing from the heart. Making use of guided meditations and time for writing we will give attention to ourselves\, our world\, and everything the present moment offers us. \nThe class will also include readings and discussion. All writing skill levels are welcome\, and you do not need experience with meditation beforehand. Bring a bag lunch; we’ll have a short food break and dive into an added opportunity to put the principles of mindfulness into practice. Students will come away from this workshop with new work begun\, and tools to use for more mindful living and writing.
URL:https://www.michaelkiesowmoore.org/event/workshop-writing-mindfulness/
LOCATION:Loft Literary Center\, 1011 Washington Avenue South\, Minneapolis\, MN\, 55415\, United States
END:VEVENT
BEGIN:VEVENT
DTSTART;TZID=America/Chicago:20181111T150000
DTEND;TZID=America/Chicago:20181111T163000
DTSTAMP:20260423T100525
CREATED:20171008T030025Z
LAST-MODIFIED:20181020T213731Z
UID:778-1541948400-1541953800@www.michaelkiesowmoore.org
SUMMARY:Reading: Autumn Leaves\, an afternoon of poetry and music
DESCRIPTION:Join us for an afternoon of poetry and music with Thomas R. Smith\, Ardie Medina and the Asiginaak Singers\, and Michael Kiesow Moore with cellist Lars Krogstad Ortiz.\nSuggested donation $10\, but no one turned away \n 
URL:https://www.michaelkiesowmoore.org/event/reading-autumn-leaves-an-afternoon-of-poetry-and-music/
LOCATION:Quinn Violins\, 1081 21st Ave SE\, Minneapolis\, MN\, 55414\, United States
ATTACH;FMTTYPE=image/jpeg:https://www.michaelkiesowmoore.org/wp-content/uploads/2016/10/autumnal_background.jpg
END:VEVENT
BEGIN:VEVENT
DTSTART;TZID=America/Chicago:20181107T190000
DTEND;TZID=America/Chicago:20181107T203000
DTSTAMP:20260423T100525
CREATED:20181014T172052Z
LAST-MODIFIED:20181027T173849Z
UID:873-1541617200-1541622600@www.michaelkiesowmoore.org
SUMMARY:Reading: Birchbark Books Reading Series
DESCRIPTION:The fall season of readings for the Birchbark Books Reading Series continues on November 7 at 7:00 pm at the Bockley Gallery (near Birchbark Books).\nReading will be Elizabeth Weird\, William Reichard\, Stanley Kusunoki\, and Margaret Hasse.\nBirchbark Books is located at 2115 West 21st Street\, Minneapolis\, MN 55405. (612) 374-4023 \n  \n  \n  \n 
URL:https://www.michaelkiesowmoore.org/event/reading-birchbark-books-reading-series-november-7/
LOCATION:Bockley Gallery\, 2123 W 21st Street \, Minneapolis\, MN\, 55405\, United States
END:VEVENT
BEGIN:VEVENT
DTSTART;TZID=America/Chicago:20181019T190000
DTEND;TZID=America/Chicago:20181019T230000
DTSTAMP:20260423T100525
CREATED:20181014T171732Z
LAST-MODIFIED:20181014T172247Z
UID:868-1539975600-1539990000@www.michaelkiesowmoore.org
SUMMARY:Reading: Fierce Lament launch party
DESCRIPTION:Join me as Red Bird Chapbooks celebrates the launch of “Fierce Lament”\, fearing the work of 30 poets\, writers\, artists\, and activists addressing the challenges of our time. The evening starts with readings from the book followed by a dance party.\n  \n  \n  \n 
URL:https://www.michaelkiesowmoore.org/event/reading-fierce-lament-launch-party/
LOCATION:Hook and Ladder\, 3010 Minnehaha Ave.\, Minneapolis\, 55406\, United States
END:VEVENT
BEGIN:VEVENT
DTSTART;TZID=America/Chicago:20180616T100000
DTEND;TZID=America/Chicago:20180616T130000
DTSTAMP:20260423T100525
CREATED:20180330T212118Z
LAST-MODIFIED:20180330T212118Z
UID:861-1529143200-1529154000@www.michaelkiesowmoore.org
SUMMARY:Class: Unlocking Your Creativity with Image
DESCRIPTION:A poetry writing workshop.\nThe beating heart of a poem could be said image. When we explore image we dive into the deep nature of symbol\, and use the tools of simile and metaphor to express the deeps. In this writing workshop we will examine these waters and then take some swims into the waters ourselves. Don’t worry\, though. A lifeguard will be posted.
URL:https://www.michaelkiesowmoore.org/event/class-unlocking-your-creativity-with-image/
LOCATION:Banfill-Locke Art Center\, 6666 East River Road\, Fridley\, MN\, United States
END:VEVENT
BEGIN:VEVENT
DTSTART;TZID=America/Chicago:20180512T090000
DTEND;TZID=America/Chicago:20180512T160000
DTSTAMP:20260423T100525
CREATED:20180330T211208Z
LAST-MODIFIED:20180330T211208Z
UID:858-1526115600-1526140800@www.michaelkiesowmoore.org
SUMMARY:Workshop: Playdate with Words
DESCRIPTION:I will teach my workshop “Playdate with Words” as part of the Banfill-Locke  BLCA 3rd Annual Writers Workshop. This year’s theme is “Tending the Word Garden.”\nDo you want to write a poem but don’t know where to begin? This class will be all about finding playful\, fun ways to start new writing. Expect writing prompts and fun activities to activate your imagination. You will leave with several new poems started and creativity ignited.
URL:https://www.michaelkiesowmoore.org/event/playdate-with-words/
LOCATION:Banfill-Locke Art Center\, 6666 East River Road\, Fridley\, MN\, United States
END:VEVENT
BEGIN:VEVENT
DTSTART;TZID=America/Chicago:20180510T190000
DTEND;TZID=America/Chicago:20180510T210000
DTSTAMP:20260423T100525
CREATED:20180308T040827Z
LAST-MODIFIED:20180330T203137Z
UID:829-1525978800-1525986000@www.michaelkiesowmoore.org
SUMMARY:Reading: League Of MN Poets
DESCRIPTION:Poet and spoken word artist Eric McKendry is hosting a reading of League of Minnesota Poets.
URL:https://www.michaelkiesowmoore.org/event/reading-league-of-mn-poets/
LOCATION:Artspace Jackson Flats\, 901 18 1/2 Ave NE\, Minneapolis\, 55418\, United States
END:VEVENT
BEGIN:VEVENT
DTSTART;TZID=America/Chicago:20180429T140000
DTEND;TZID=America/Chicago:20180429T153000
DTSTAMP:20260423T100525
CREATED:20180308T040447Z
LAST-MODIFIED:20180308T041556Z
UID:826-1525010400-1525015800@www.michaelkiesowmoore.org
SUMMARY:Reading: Literary Lights Series
DESCRIPTION:The Literary Lights Reading Series celebrates Poetry Month at Blue Harbor Center for the Arts. Joining me for my reading will be cellist Lars Krogstad Ortiz to present some of our collaborative work together.
URL:https://www.michaelkiesowmoore.org/event/reading-literary-lights-series/
LOCATION:Blue Harbor Center for the Arts\, 559 Humboldt Ave.\, Saint Paul\, MN\, 55107\, United States
END:VEVENT
BEGIN:VEVENT
DTSTART;TZID=America/Chicago:20180428T110000
DTEND;TZID=America/Chicago:20180428T120000
DTSTAMP:20260423T100525
CREATED:20180330T212618Z
LAST-MODIFIED:20180330T212618Z
UID:863-1524913200-1524916800@www.michaelkiesowmoore.org
SUMMARY:Dance: Indie Book Day at Birchbark Books
DESCRIPTION:The Ramsey’s Braggarts Morris Men – the “official” Morris Dance team for Birchbark Books – will dance again for Indie Book Day!
URL:https://www.michaelkiesowmoore.org/event/dance-indie-book-day-at-birchbark-books/
LOCATION:Birchbark Books\, 2115 West 21st St\, Minneapolis\, 55405
END:VEVENT
BEGIN:VEVENT
DTSTART;TZID=America/Chicago:20180426T180000
DTEND;TZID=America/Chicago:20180426T193000
DTSTAMP:20260423T100525
CREATED:20180330T205257Z
LAST-MODIFIED:20180330T205959Z
UID:847-1524765600-1524771000@www.michaelkiesowmoore.org
SUMMARY:Host: Cracked Walnut Reading "Allen Ginsburg"
DESCRIPTION:I will host the Cracked Walnut 2018 Lit-Fest reading with the theme of “Allen Ginsburg.”
URL:https://www.michaelkiesowmoore.org/event/host-cracked-walnut-reading-allen-ginsburg/
LOCATION:Merriam Park Library\, 1831 Marshall Ave.\, St. Paul\, MN\, United States
END:VEVENT
BEGIN:VEVENT
DTSTART;TZID=America/Chicago:20180421T183000
DTEND;TZID=America/Chicago:20180421T213000
DTSTAMP:20260423T100525
CREATED:20180308T035206Z
LAST-MODIFIED:20180330T202641Z
UID:823-1524335400-1524346200@www.michaelkiesowmoore.org
SUMMARY:Reception: Poet-Artist Collaboration XVII
DESCRIPTION:Join us for a reception of the Crossings at Carnegie Poet-Artist Collaboration\, where artists create works of art based on selected poems. My poem\, “And the Prophet Spoke to Me Last Wednesday\,” was selected for an artist to create a painting. We will read our poems\, and the artists will discuss the works they made.\nThe exhibit runs March 26 – April 26.
URL:https://www.michaelkiesowmoore.org/event/reception-poet-artist-collaboration-xvii/
LOCATION:Crossings at Carnegie\, 320 East Ave.\, Zumbrota\, 55992\, United States
END:VEVENT
BEGIN:VEVENT
DTSTART;TZID=America/Chicago:20180418T190000
DTEND;TZID=America/Chicago:20180418T203000
DTSTAMP:20260423T100525
CREATED:20180330T190725Z
LAST-MODIFIED:20180330T190725Z
UID:838-1524078000-1524083400@www.michaelkiesowmoore.org
SUMMARY:Reading: Birchbark Books Reading Series
DESCRIPTION:The spring season of readings for the Birchbark Books Reading Series continues on April 18 at 7:00 pm at the Bockley Gallery (near Birchbark Books). Reading will be contributors from\nHow Dare We! Write: A Multicultural Creative Writing Discourse edited by Sherry Quan Lee\nCurated by Michael Kiesow Moore and Ardie Medina\, the Birchbark Books Reading Series features new\, emerging\, and established writers quarterly September through May.
URL:https://www.michaelkiesowmoore.org/event/reading-birchbark-books-reading-series-4/
LOCATION:Bockley Gallery\, 2123 W 21st Street \, Minneapolis\, MN\, 55405\, United States
END:VEVENT
BEGIN:VEVENT
DTSTART;TZID=America/Chicago:20180417T120000
DTEND;TZID=America/Chicago:20180417T130000
DTSTAMP:20260423T100525
CREATED:20180330T205721Z
LAST-MODIFIED:20180330T205721Z
UID:849-1523966400-1523970000@www.michaelkiesowmoore.org
SUMMARY:Reader: North Hennepin Community College
DESCRIPTION:I will be a featured author for the North Hennepin Reading Series. The reading is free and open to the public.
URL:https://www.michaelkiesowmoore.org/event/reader-north-hennepin-community-college/
LOCATION:North Hennepin Community College\, 7411 85th Avenue North\, Brooklyn Park\, 55445\, United States
END:VEVENT
BEGIN:VEVENT
DTSTART;TZID=America/Chicago:20180413T190000
DTEND;TZID=America/Chicago:20180413T200000
DTSTAMP:20260423T100525
CREATED:20180330T210728Z
LAST-MODIFIED:20180330T210728Z
UID:853-1523646000-1523649600@www.michaelkiesowmoore.org
SUMMARY:Reader: Common Good Books
DESCRIPTION:Greg Watson will host a reading with me\, Michael Kleber-Diggs\, and Norita Dittberner-Jax followed by an open mic.
URL:https://www.michaelkiesowmoore.org/event/reader-common-good-books/
LOCATION:Common Good Books\, 38 S Snelling Ave\, Saint Paul\, MN\, 55105\, United States
END:VEVENT
BEGIN:VEVENT
DTSTART;TZID=America/Chicago:20180328T190000
DTEND;TZID=America/Chicago:20180328T203000
DTSTAMP:20260423T100525
CREATED:20180308T033851Z
LAST-MODIFIED:20180328T203535Z
UID:820-1522263600-1522269000@www.michaelkiesowmoore.org
SUMMARY:Reading: Birchbark Books Reading Series
DESCRIPTION:The spring season of readings for the Birchbark Books Reading Series begins on March 28 at 7:00 pm at the Bockley Gallery (near Birchbark Books). Reading will be Diane Wilson\, Anthony Ceballos\, Susan Power and James P. Lenfestey.
URL:https://www.michaelkiesowmoore.org/event/reading-birchbark-books-reading-series-3/
LOCATION:Birchbark Books\, 2115 West 21st St\, Minneapolis\, 55405
END:VEVENT
BEGIN:VEVENT
DTSTART;TZID=America/Chicago:20171210T133000
DTEND;TZID=America/Chicago:20171210T150000
DTSTAMP:20260423T100525
CREATED:20171110T203022Z
LAST-MODIFIED:20171202T172437Z
UID:802-1512912600-1512918000@www.michaelkiesowmoore.org
SUMMARY:Annual Tribute to John Lennon and the Beatles
DESCRIPTION:The 6th annual tribute to John Lennon (on his birthday) and the Beatles. Organized by Thomas R. Smith and featuring poetry and music by him and his friends. Free! Come and sing along! River Falls Public Library\, 140 Union St\, River Falls WI 54022
URL:https://www.michaelkiesowmoore.org/event/annual-tribute-to-john-lennon-and-the-beatles/
LOCATION:River Falls Public Library\, 140 Union St\, River Falls\, WI\, 54022\, United States
ATTACH;FMTTYPE=image/png:https://www.michaelkiesowmoore.org/wp-content/uploads/2017/11/JohnLennon-small.png
END:VEVENT
BEGIN:VEVENT
DTSTART;TZID=America/Chicago:20171111T130000
DTEND;TZID=America/Chicago:20171111T170000
DTSTAMP:20260423T100525
CREATED:20170915T022356Z
LAST-MODIFIED:20171008T154020Z
UID:774-1510405200-1510419600@www.michaelkiesowmoore.org
SUMMARY:Class: Writing Peace Into Your Life
DESCRIPTION:How do you hold light in the darkness? Can “peace” be such a light\, and if so how? There are perhaps fewer words more used\, for who does not want peace for themselves or the world? But what does peace actually look like? \nThrough writing we will consciously explore what peace is. Writing is a powerful tool for understanding ourselves and the world; writing can even change how we relate to both ourselves and the world. Participants will pull from their own craft toolkits of poetry\, creative nonfiction\, and fiction. \nThere will be something here for beginners and advanced alike. As writers and as concerned human beings we will use writing to make peace in our lives and the world not just a noun\, but a verb. The workshop will include opportunities for writing\, as well as readings\, discussion\, and guided meditation.
URL:https://www.michaelkiesowmoore.org/event/class-writing-peace-into-your-life/
LOCATION:Loft Literary Center\, 1011 Washington Avenue South\, Minneapolis\, MN\, 55415\, United States
ATTACH;FMTTYPE=image/png:https://www.michaelkiesowmoore.org/wp-content/uploads/2015/04/loft_facebook-e1428943212761.png
END:VEVENT
BEGIN:VEVENT
DTSTART;TZID=America/Chicago:20171110T190000
DTEND;TZID=America/Chicago:20171110T210000
DTSTAMP:20260423T100525
CREATED:20171018T221049Z
LAST-MODIFIED:20171018T221049Z
UID:798-1510340400-1510347600@www.michaelkiesowmoore.org
SUMMARY:Reading: Water~Stone Review launch
DESCRIPTION:I will join other authors in the current copy of Water~Stone Review for a launch party. Water~Stone Review is a literary annual published by the The Creative Writing Programs at Hamline University. 
URL:https://www.michaelkiesowmoore.org/event/reading-waterstone-review-launch/
LOCATION:Sundin Hall\, 1531 Hewitt Avenue\, Saint Paul\, MN\, 55104\, United States
ATTACH;FMTTYPE=image/jpeg:https://www.michaelkiesowmoore.org/wp-content/uploads/2017/10/WS-Review-logo.jpg
END:VEVENT
BEGIN:VEVENT
DTSTART;TZID=America/Chicago:20171101T190000
DTEND;TZID=America/Chicago:20171101T203000
DTSTAMP:20260423T100525
CREATED:20171008T154614Z
LAST-MODIFIED:20171008T155946Z
UID:783-1509562800-1509568200@www.michaelkiesowmoore.org
SUMMARY:Reading: Birchbark Books Reading Series
DESCRIPTION:The Fall season of readings for the Birchbark Books Reading Series concludes on November 1. Reading will be Heid E. Erdrich\, David Lawrence Grant\, Linda LeGarde Grover\, and Thomas Redshaw. Co-hosts for the series are Michael Kiesow Moore and Ardie Medina.
URL:https://www.michaelkiesowmoore.org/event/reading-birchbark-books-reading-series-2/
LOCATION:Bockley Gallery\, 2123 W 21st Street \, Minneapolis\, MN\, 55405\, United States
ATTACH;FMTTYPE=image/jpeg:https://www.michaelkiesowmoore.org/wp-content/uploads/2015/07/bbb-logo3.jpg
END:VEVENT
BEGIN:VEVENT
DTSTART;TZID=America/Chicago:20171019T190000
DTEND;TZID=America/Chicago:20171019T210000
DTSTAMP:20260423T100525
CREATED:20171008T153858Z
LAST-MODIFIED:20171008T153858Z
UID:780-1508439600-1508446800@www.michaelkiesowmoore.org
SUMMARY:Reading: Bridges reading series at Barnes & Noble
DESCRIPTION:October brings a first for the Bridges reading series at Barnes & Noble HarMar Mall: All readers are participants in the Martin Lake Poetry Workshop founding in 2016 by guest host Michael Dean. Beginning with some writing friends\, the workshop now has over 1\,000 participants. I will read with fellow participants of the Poetry Workshop.
URL:https://www.michaelkiesowmoore.org/event/reading-bridges-reading-series-at-barnes-noble/
LOCATION:Barnes & Noble\, 2100 Snelling Ave N\, Roseville\, MN\, 55113\, United States
ATTACH;FMTTYPE=image/gif:https://www.michaelkiesowmoore.org/wp-content/uploads/2015/04/logo-barnes-noble.gif
END:VEVENT
BEGIN:VEVENT
DTSTART;TZID=America/Chicago:20170928T180000
DTEND;TZID=America/Chicago:20171012T200000
DTSTAMP:20260423T100525
CREATED:20170915T020931Z
LAST-MODIFIED:20171008T154330Z
UID:769-1506621600-1507838400@www.michaelkiesowmoore.org
SUMMARY:Class: Playdate with Words
DESCRIPTION:This class is about using playful techniques to inspire new writing. Working with external prompts we’ll make found poems\, bricolage poems (a type of found poem using multiple sources)\, and use images and objects as inspiration\, especially from art in the galleries. Students can expect to write during class and share work with one another. You will leave with several new poems started and creativity ignited. (3 Thursday nights\, 6:00 pm – 8:00 pm)
URL:https://www.michaelkiesowmoore.org/event/class-playdate-with-words/
LOCATION:Banfill-Locke Art Center\, 6666 East River Road\, Fridley\, MN\, United States
ATTACH;FMTTYPE=image/png:https://www.michaelkiesowmoore.org/wp-content/uploads/2017/09/banfill_logo.png
END:VEVENT
BEGIN:VEVENT
DTSTART;TZID=America/Chicago:20170927T190000
DTEND;TZID=America/Chicago:20170927T203000
DTSTAMP:20260423T100525
CREATED:20170914T024709Z
LAST-MODIFIED:20170914T024918Z
UID:760-1506538800-1506544200@www.michaelkiesowmoore.org
SUMMARY:Reading: Birchbark Books Reading Series
DESCRIPTION:The Birchbark Books Reading Series begins its 9th season of readings on September 27. Reading with us will be Todd Boss\, Sharon Chmielarz\, and Marcie R. Rendon. Please join us!
URL:https://www.michaelkiesowmoore.org/event/reading-birchbark-books-reading-series-september-27/
LOCATION:Bockley Gallery\, 2123 W 21st Street \, Minneapolis\, MN\, 55405\, United States
END:VEVENT
BEGIN:VEVENT
DTSTART;TZID=America/Chicago:20170510T190000
DTEND;TZID=America/Chicago:20170510T203000
DTSTAMP:20260423T100525
CREATED:20170426T212852Z
LAST-MODIFIED:20170503T151417Z
UID:742-1494442800-1494448200@www.michaelkiesowmoore.org
SUMMARY:Reading: Birchbark Books Reading Series\, May 10
DESCRIPTION:Our 8th season of readings concludes on May 10 a 7 pm. Reading will be Nora Murphy\, Choua Yang\, Taiyon J Coleman\, and Ronald P. Leith.
URL:https://www.michaelkiesowmoore.org/event/reading-birchbark-books-reading-series-may-10/
LOCATION:Bockley Gallery\, 2123 W 21st Street \, Minneapolis\, MN\, 55405\, United States
END:VEVENT
END:VCALENDAR