BEGIN:VCALENDAR
VERSION:2.0
PRODID:-//Michael Kiesow Moore - ECPv6.15.13//NONSGML v1.0//EN
CALSCALE:GREGORIAN
METHOD:PUBLISH
X-WR-CALNAME:Michael Kiesow Moore
X-ORIGINAL-URL:https://www.michaelkiesowmoore.org
X-WR-CALDESC:Events for Michael Kiesow Moore
REFRESH-INTERVAL;VALUE=DURATION:PT1H
X-Robots-Tag:noindex
X-PUBLISHED-TTL:PT1H
BEGIN:VTIMEZONE
TZID:America/Chicago
BEGIN:DAYLIGHT
TZOFFSETFROM:-0600
TZOFFSETTO:-0500
TZNAME:CDT
DTSTART:20170312T080000
END:DAYLIGHT
BEGIN:STANDARD
TZOFFSETFROM:-0500
TZOFFSETTO:-0600
TZNAME:CST
DTSTART:20171105T070000
END:STANDARD
BEGIN:DAYLIGHT
TZOFFSETFROM:-0600
TZOFFSETTO:-0500
TZNAME:CDT
DTSTART:20180311T080000
END:DAYLIGHT
BEGIN:STANDARD
TZOFFSETFROM:-0500
TZOFFSETTO:-0600
TZNAME:CST
DTSTART:20181104T070000
END:STANDARD
BEGIN:DAYLIGHT
TZOFFSETFROM:-0600
TZOFFSETTO:-0500
TZNAME:CDT
DTSTART:20190310T080000
END:DAYLIGHT
BEGIN:STANDARD
TZOFFSETFROM:-0500
TZOFFSETTO:-0600
TZNAME:CST
DTSTART:20191103T070000
END:STANDARD
BEGIN:DAYLIGHT
TZOFFSETFROM:-0600
TZOFFSETTO:-0500
TZNAME:CDT
DTSTART:20200308T080000
END:DAYLIGHT
BEGIN:STANDARD
TZOFFSETFROM:-0500
TZOFFSETTO:-0600
TZNAME:CST
DTSTART:20201101T070000
END:STANDARD
BEGIN:DAYLIGHT
TZOFFSETFROM:-0600
TZOFFSETTO:-0500
TZNAME:CDT
DTSTART:20210314T080000
END:DAYLIGHT
BEGIN:STANDARD
TZOFFSETFROM:-0500
TZOFFSETTO:-0600
TZNAME:CST
DTSTART:20211107T070000
END:STANDARD
BEGIN:DAYLIGHT
TZOFFSETFROM:-0600
TZOFFSETTO:-0500
TZNAME:CDT
DTSTART:20220313T080000
END:DAYLIGHT
BEGIN:STANDARD
TZOFFSETFROM:-0500
TZOFFSETTO:-0600
TZNAME:CST
DTSTART:20221106T070000
END:STANDARD
BEGIN:DAYLIGHT
TZOFFSETFROM:-0600
TZOFFSETTO:-0500
TZNAME:CDT
DTSTART:20230312T080000
END:DAYLIGHT
BEGIN:STANDARD
TZOFFSETFROM:-0500
TZOFFSETTO:-0600
TZNAME:CST
DTSTART:20231105T070000
END:STANDARD
BEGIN:DAYLIGHT
TZOFFSETFROM:-0600
TZOFFSETTO:-0500
TZNAME:CDT
DTSTART:20240310T080000
END:DAYLIGHT
BEGIN:STANDARD
TZOFFSETFROM:-0500
TZOFFSETTO:-0600
TZNAME:CST
DTSTART:20241103T070000
END:STANDARD
END:VTIMEZONE
BEGIN:VEVENT
DTSTART;TZID=America/Chicago:20231022T140000
DTEND;TZID=America/Chicago:20231022T153000
DTSTAMP:20260425T060754
CREATED:20231019T014356Z
LAST-MODIFIED:20231019T014511Z
UID:1094-1697983200-1697988600@www.michaelkiesowmoore.org
SUMMARY:Reading: Cracked Walnut Literary Festival - LGBTQ+
DESCRIPTION:The Cracked Walnut Literary Festival hosts a reading of LGBTQ+ writers\, hosted by Stanley Kusunoki. Reading will be Michael Kiesow Moore\, John Medieros\, Venus De Mars\, Morgan Grayce Willow\, Anthony Ceballos\, Kate Lynn Hibbard\, LM Brimmer\, andAmanda Bailey
URL:https://www.michaelkiesowmoore.org/event/reading-cracked-walnut-literary-festival-lgbtq/
LOCATION:East Side Freedom Library\, 1105 Greenbrier Street\, Saint Paul\, MN\, 55106\, United States
END:VEVENT
BEGIN:VEVENT
DTSTART;TZID=America/Chicago:20231021T163000
DTEND;TZID=America/Chicago:20231021T180000
DTSTAMP:20260425T060754
CREATED:20231019T013736Z
LAST-MODIFIED:20231019T013736Z
UID:1089-1697905800-1697911200@www.michaelkiesowmoore.org
SUMMARY:Reading: "Autumn Leaves" poetry and music
DESCRIPTION:Join us for “Autumn Leaves\,” a program that brings together the muses of poetry and music on the same stage. Presenting will be Michael Kiesow Moore with cellist Lars Ortiz\, Ardie Medina with the Asiginaak Women’s Handdrum Group\, Diane Jarvenpa with guitar and Finnish harp\, and Thomas R. Smith giving us poetry and song accompanied by his faithful guitar. The event begins at 4:30 pm in the Robbins Parlor at 732 Holly Ave\, Saint Paul. Accessible parking lot and wheelchair entrance on East of the building off of Holly. Refreshments will be offered.\nPerformer bios: \nThomas R. Smith is a poet\, essayist\, teacher\, and editor living in River Falls\, Wisconsin. He’s the author of numerous books\, most recently Medicine Year (poetry) and Poetry on the Side of Nature: Writing the Nature Poem as an Act of Survival (prose). He teaches poetry at the Loft Literary Center and posts poems and essays at www.thomasrsmithpoet.com. He is also a passionate songster and performs occasionally with the folk trio Catbird. \nArdie Medina with the Asiginaak Women’s Handdrum Group: Ardie Medina is an Anishinaabe poet and playwright from Lac du Flambeau\, Wisconsin. She became involved in the Twin Cities writing community soon after moving to the area in 1993. Her poems have been published in various anthologies—Loonfeather Press\, Yellow Medicine Review\, The Saint Paul Almanac\, and two self-published anthologies\, Gatherings and In the Company of Others\, with fellow poets from the Loft Literary Center’s former Foreword Apprenticeship program. Two of her plays are included in Alexander Street Press’s American Indian Drama Collection. Ardie resides in Northeast Minneapolis with her husband Mike and their two Affenpinchers Chito and Sundae. \nMichael Kiesow Moore is the author of the poetry collections What to Pray For and The Song Castle (Nodin Press). His work has appeared in many journals such as International Times\, Poetry City\, and Water~Stone Review\, anthologies like Queer Voices\, Among the Leaves: Queer Male Poets on the Midwestern Experience\, and The Writer’s Almanac. Michael is the founder of the Birchbark Books Reading Series. When he is not drinking too much coffee\, he can be found in Saint Paul dancing with The Braggarts Morris dancers. \nLars Ortiz (cello) began his career as an English teacher in Denver Public Schools. He later became principal cellist of the Civic Orchestra of Minneapolis as well as a founding member of Lux String Quartet\, where he worked with both Minnesota Public Radio and Schubert Club to promote music education. Although he has performed in both concert halls and coffee shops\, he is most happy in his studio teaching budding cellists of all ages. \nDiane Jarvenpa is the author of six books of poetry\, her most recent Shy Lands published by Blue Light Press. She is a teaching artist with the Alzheimer’s Poetry Project MN and the East Side Arts Council. As a singer-songwriter she performs under the name Diane Jarvi.
URL:https://www.michaelkiesowmoore.org/event/reading-autumn-leaves-poetry-and-music/
LOCATION:Unity Church-Unitarian\, 732 Holly Avenue\, Saint Paul\, MN\, 55104\, United States
END:VEVENT
BEGIN:VEVENT
DTSTART;TZID=America/Chicago:20231001T140000
DTEND;TZID=America/Chicago:20231001T153000
DTSTAMP:20260425T060754
CREATED:20230801T004744Z
LAST-MODIFIED:20230801T004744Z
UID:1082-1696168800-1696174200@www.michaelkiesowmoore.org
SUMMARY:Reading: Literary Bridges / Cracked Walnut Literary Festival
DESCRIPTION:The Cracked Walnut Literary festival launches a month of events at the Literary Bridges Reading Series where authors will read from the newly published anthology\, “Rewilding Hope.”
URL:https://www.michaelkiesowmoore.org/event/reading-literary-bridges-cracked-walnut-literary-festival/
LOCATION:Next Chapter Booksellers\, 38 Snelling Ave S\, Saint Paul\, MN\, 55105\, United States
END:VEVENT
BEGIN:VEVENT
DTSTART;TZID=America/Chicago:20230930T183000
DTEND;TZID=America/Chicago:20230930T200000
DTSTAMP:20260425T060754
CREATED:20230928T004201Z
LAST-MODIFIED:20230928T004201Z
UID:1086-1696098600-1696104000@www.michaelkiesowmoore.org
SUMMARY:Reading: Root Words Poetry and Music Series
DESCRIPTION:Join us on Saturday\, September 30th for a FREE Poetry & Music Series in collaboration with 100 Thousand Poets for Change. We have some fantastic Readers and Performers lined up.
URL:https://www.michaelkiesowmoore.org/event/reading-root-words-poetry-and-music-series/
LOCATION:Healing Roots Wellness Center\, 154 Summit St.\, River Falls\, WI\, 54022\, United States
END:VEVENT
BEGIN:VEVENT
DTSTART;TZID=America/Chicago:20230309T193000
DTEND;TZID=America/Chicago:20230309T203000
DTSTAMP:20260425T060754
CREATED:20230226T214318Z
LAST-MODIFIED:20230226T214318Z
UID:1061-1678390200-1678393800@www.michaelkiesowmoore.org
SUMMARY:Reading: Midstream Reading Series
DESCRIPTION:Original works of poetry and prose read by their creators: Mary Moore Easter\, David Grant\, Paige Riehl and Michael Kiesow Moore. Michael will be accompanied by cellist Lars Ortiz.\nHost: Diane Jarvenpa
URL:https://www.michaelkiesowmoore.org/event/reading-midstream-reading-series/
LOCATION:Unity Church-Unitarian\, 732 Holly Avenue\, Saint Paul\, MN\, 55104\, United States
END:VEVENT
BEGIN:VEVENT
DTSTART;TZID=America/Chicago:20230119T183000
DTEND;TZID=America/Chicago:20230119T200000
DTSTAMP:20260425T060754
CREATED:20230119T172341Z
LAST-MODIFIED:20230226T213728Z
UID:1050-1674153000-1674158400@www.michaelkiesowmoore.org
SUMMARY:Reading: Night of Light in Darkness
DESCRIPTION:Join us for the first annual “Night of Light in Darkness” reading as part of Root Words Poetry and Music Series. Joining me will be Ardie Medina\, Joshua Davies\, and Diane Jarvenpa.
URL:https://www.michaelkiesowmoore.org/event/reading-night-of-light-in-darkness/
LOCATION:Healing Roots Wellness Center\, 154 Summit St.\, River Falls\, WI\, 54022\, United States
END:VEVENT
BEGIN:VEVENT
DTSTART;TZID=America/Chicago:20220316T190000
DTEND;TZID=America/Chicago:20220316T200000
DTSTAMP:20260425T060754
CREATED:20220315T005920Z
LAST-MODIFIED:20220315T005920Z
UID:1047-1647457200-1647460800@www.michaelkiesowmoore.org
SUMMARY:Reading: Poets & Pints
DESCRIPTION:I will be reading with members from the Cracked Walnut Writers Collective at Poets & Pints. Hosting is Bill Anderson\, and readers include Alethea Turner\, Jacob Robinson\, and Alli Marie.
URL:https://www.michaelkiesowmoore.org/event/reading-poets-pints/
LOCATION:Sysiphus Brewing\, 712 Ontario Avenue W\, Minneapolis\, 55403\, United States
END:VEVENT
BEGIN:VEVENT
DTSTART;TZID=America/Chicago:20211106T110000
DTEND;TZID=America/Chicago:20211106T150000
DTSTAMP:20260425T060754
CREATED:20211106T035831Z
LAST-MODIFIED:20211106T040022Z
UID:1036-1636196400-1636210800@www.michaelkiesowmoore.org
SUMMARY:Book Sale: Artblok Fall Market\, 2010 E. Hennepin Ave
DESCRIPTION:I will join 20 other artists at the Artblok Fall Market and sell copies of my books with local artisans. It is outdoors\, free parking\, and there will be a food truck!
URL:https://www.michaelkiesowmoore.org/event/book-sale-artblok-fall-market/
LOCATION:Artblok\, 2010 Hennepin Avenue E.\, Minneapolis\, MN\, United States
END:VEVENT
BEGIN:VEVENT
DTSTART;TZID=America/Chicago:20211016T103000
DTEND;TZID=America/Chicago:20211016T110000
DTSTAMP:20260425T060754
CREATED:20211016T033337Z
LAST-MODIFIED:20211120T211514Z
UID:1031-1634380200-1634382000@www.michaelkiesowmoore.org
SUMMARY:Book Signing: Rain Taxi Book Festival
DESCRIPTION:Join me at the Rain Taxi Book Festival where I will sign my books at the Nodin Press table.
URL:https://www.michaelkiesowmoore.org/event/book-signing-rain-taxi-book-festival/
LOCATION:Minnesota State Fairgrounds\, 1265 Snelling Ave.\, Saint Paul\, 55108\, United States
END:VEVENT
BEGIN:VEVENT
DTSTART;TZID=America/Chicago:20201202T120000
DTEND;TZID=America/Chicago:20201202T130000
DTSTAMP:20260425T060754
CREATED:20201129T213933Z
LAST-MODIFIED:20201129T213933Z
UID:1017-1606910400-1606914000@www.michaelkiesowmoore.org
SUMMARY:Coffee Concert: Winter in a New World
DESCRIPTION:A recital of music and poetry with: Kathy Lee\, soprano; Dan Chouinard\, piano and accordian\, and Michael Kiesow Moore\, author and poet
URL:https://www.michaelkiesowmoore.org/event/coffee-concert-winter-in-a-new-world/
LOCATION:Saint Paul Conservatory of Music\, https://www.facebook.com/events/2701344526844378/?active_tab=discussion\, Saint Paul\, MN\, 55105\, United States
END:VEVENT
BEGIN:VEVENT
DTSTART;TZID=America/Chicago:20200924T183000
DTEND;TZID=America/Chicago:20200924T200000
DTSTAMP:20260425T060754
CREATED:20200924T040205Z
LAST-MODIFIED:20200924T040205Z
UID:1013-1600972200-1600977600@www.michaelkiesowmoore.org
SUMMARY:Reading: Bridges Reading Series
DESCRIPTION:I will be reading with other reading series hosts for this 4th anniversary reading celebrating Bridges.\nIMPORTANT! This is a Zoom reading. To view the reading\, please register at https://www.nextchapterbooksellers.com/event and scroll down to September 24 and click on the link.
URL:https://www.michaelkiesowmoore.org/event/reading-bridges-reading-series/
LOCATION:MN
END:VEVENT
BEGIN:VEVENT
DTSTART;TZID=America/Chicago:20200919T090000
DTEND;TZID=America/Chicago:20200919T120000
DTSTAMP:20260425T060754
CREATED:20200909T164334Z
LAST-MODIFIED:20200909T164334Z
UID:1009-1600506000-1600516800@www.michaelkiesowmoore.org
SUMMARY:Workshop: Writing Mindfulness
DESCRIPTION:I will lead a writing workshop where we will explore the connections between the practice of mindfulness meditation and the act of writing from the heart. Making use of writing exercises and guided meditations we will give attention to ourselves\, our world\, and everything the present moment offers us. All writing skill levels are welcome. You do not need experience with meditation beforehand. We’ll dive into an opportunity to put the principles of mindfulness into practice together. Students will come away from this workshop with new work begun\, and tools to use for more mindful living and writing.\n  \n 
URL:https://www.michaelkiesowmoore.org/event/workshop-writing-mindfulness-4/
LOCATION:Loft Literary Center\, 1011 Washington Avenue South\, Minneapolis\, MN\, 55415\, United States
END:VEVENT
BEGIN:VEVENT
DTSTART;TZID=America/Chicago:20200715T190000
DTEND;TZID=America/Chicago:20200715T200000
DTSTAMP:20260425T060754
CREATED:20200620T195444Z
LAST-MODIFIED:20200620T195444Z
UID:1005-1594839600-1594843200@www.michaelkiesowmoore.org
SUMMARY:SubText Books Reading and Panel
DESCRIPTION:I will join Wendy Brown-Baez and Pamela Fletcher Bush to read from our recent books and speak to using writing for healing. This event will be online. Details to come.\n  \n  \n 
URL:https://www.michaelkiesowmoore.org/event/subtext-books-reading-and-panel/
LOCATION:SubText Bookstore\, 6 West Fifth Street\, Saint Paul\, 55102\, United States
END:VEVENT
BEGIN:VEVENT
DTSTART;TZID=America/Chicago:20200321T090000
DTEND;TZID=America/Chicago:20200321T120000
DTSTAMP:20260425T060754
CREATED:20191020T210858Z
LAST-MODIFIED:20200312T170557Z
UID:953-1584781200-1584792000@www.michaelkiesowmoore.org
SUMMARY:Workshop CANCELED: How to Give a FANTASTIC Reading
DESCRIPTION:The Loft is not providing in-classes for the time being because of COVID-19. Because this workshop is hands-on and requires in-person participation\, it cannot be moved online and will be canceled. Hopefully we can present it again in the future\n————————————————————————————— \nI will present a workshop on how to give a great reading. We will have hands on time using a microphone\, discuss many aspects that go into a successful reading\, and we will have opportunities to experience giving an actual reading during the class. We will also touch on aspects of marketing and publicity.\nAfter giving hundreds of readings myself and hosting various readings and reading series\, there is much knowledge and expertise I wish to give so that readers and audiences both have the best experiences possible.\n  \n  \n  \n 
URL:https://www.michaelkiesowmoore.org/event/workshop-how-to-give-a-fantastic-reading/
LOCATION:Loft Literary Center\, 1011 Washington Avenue South\, Minneapolis\, MN\, 55415\, United States
END:VEVENT
BEGIN:VEVENT
DTSTART;TZID=America/Chicago:20200318T190000
DTEND;TZID=America/Chicago:20200318T200000
DTSTAMP:20260425T060754
CREATED:20200207T214638Z
LAST-MODIFIED:20200315T003641Z
UID:989-1584558000-1584561600@www.michaelkiesowmoore.org
SUMMARY:Reading CANCELED: SubText Books
DESCRIPTION:Due to concerns about the health risks of COVID-19\, the bookstore has postponed this reading to another time to be determined.\n——————————\nI will be reading from my new poetry collection\, The Song Castle. Also joining me for the reading will be poet Carol Masters.\n 
URL:https://www.michaelkiesowmoore.org/event/reading-subtext-books/
LOCATION:SubText Bookstore\, 6 West Fifth Street\, Saint Paul\, 55102\, United States
END:VEVENT
BEGIN:VEVENT
DTSTART;TZID=America/Chicago:20200116T173000
DTEND;TZID=America/Chicago:20200116T190000
DTSTAMP:20260425T060754
CREATED:20191125T003104Z
LAST-MODIFIED:20191214T211501Z
UID:968-1579195800-1579201200@www.michaelkiesowmoore.org
SUMMARY:Reading: Moon Palace Books
DESCRIPTION:I will join Kris Bigalk as we read from our new books. Please join us as we celebrate. Reception starts at 5:30 pm\, followed by readings from 6 to 7 pm. Cellist Lars Ortiz will join me for my set as I launch my new book\, “The Song Castle.”\n  \n 
URL:https://www.michaelkiesowmoore.org/event/reading-moon-palace-books/
LOCATION:Moon Palace Books\, 3032 Minnehaha Ave\, Minneapolis\, 55406\, United States
END:VEVENT
BEGIN:VEVENT
DTSTART;TZID=America/Chicago:20191115T190000
DTEND;TZID=America/Chicago:20191115T210000
DTSTAMP:20260425T060754
CREATED:20191101T215429Z
LAST-MODIFIED:20191101T215429Z
UID:957-1573844400-1573851600@www.michaelkiesowmoore.org
SUMMARY:Workshop: Writers Unite! Building a Writing Community
DESCRIPTION:A writing group can give the otherwise lonely writer inspiration\, perspective\, new viewpoints\, support\, accountability\, feedback\, and collegiality. But finding a good match is hard! In this evening for creative writers\, three authors will share the wide range of possibilities for forming writing community and offer advice on what makes groups or partnerships sustainable.\nParticipants will get to know one another in a series of small-group conversations\, connecting around shared genres\, levels of experience\, interests\, and location. We’ll end with social time so participants can exchange contact information and formalize plans.\nYou’re invited to bring a short (200 words or less) sample to share by way of introducing your writing\, but this is not required.\nPresented by  Elizabeth Jarrett Andrew\, Lisa Marie Brimmer\, and Michael Kiesow Moore\n  \n 
URL:https://www.michaelkiesowmoore.org/event/workshop-writers-unite-building-a-writing-community/
LOCATION:MN
END:VEVENT
BEGIN:VEVENT
DTSTART;TZID=America/Chicago:20191110T140000
DTEND;TZID=America/Chicago:20191110T160000
DTSTAMP:20260425T060754
CREATED:20191020T205646Z
LAST-MODIFIED:20191020T205817Z
UID:948-1573394400-1573401600@www.michaelkiesowmoore.org
SUMMARY:Reading: Autumn Leaves\, an afternoon of poetry and music
DESCRIPTION:Join us for an afternoon of poetry and music with Thomas R. Smith\, Ardie Medina and the Asiginaak Singers\, and Michael Kiesow Moore with cellist Lars Krogstad Ortiz.\nSuggested donation $10\, but no one turned away \n  \n  \n 
URL:https://www.michaelkiesowmoore.org/event/reading-autumn-leaves-an-afternoon-of-poetry-and-music-2/
LOCATION:Quinn Violins\, 1081 21st Ave SE\, Minneapolis\, MN\, 55414\, United States
END:VEVENT
BEGIN:VEVENT
DTSTART;TZID=America/Chicago:20191106T190000
DTEND;TZID=America/Chicago:20191106T203000
DTSTAMP:20260425T060754
CREATED:20191020T204948Z
LAST-MODIFIED:20191020T205044Z
UID:942-1573066800-1573072200@www.michaelkiesowmoore.org
SUMMARY:Reading: Birchbark Books Reading Series
DESCRIPTION:Following an exuberant celebration of the Birchbark Books Reading Series’ 10th anniversary last month\, we now continue with our next readings. On November 6 we present Philip S. Bryant\, Sharon Chmielarz\, Brian Baumgart\, and Mary Moore Easter. The reading will be at The Bockley Gallery\, 2123 W 21st Street\, Minneapolis\, just a couple doors down from the bookstore.\n  \n 
URL:https://www.michaelkiesowmoore.org/event/reading-birchbark-books-reading-series-7/
LOCATION:Bockley Gallery\, 2123 W 21st Street \, Minneapolis\, MN\, 55405\, United States
END:VEVENT
BEGIN:VEVENT
DTSTART;TZID=America/Chicago:20191005T190000
DTEND;TZID=America/Chicago:20191005T210000
DTSTAMP:20260425T060754
CREATED:20190920T200813Z
LAST-MODIFIED:20190920T200813Z
UID:934-1570302000-1570309200@www.michaelkiesowmoore.org
SUMMARY:Birchbark Books Reading Series 10 Year Celebration
DESCRIPTION:The Birchbark Books Reading Series is celebrating its 10th year of readings on Saturday\, October 5 at 7 pm.\nFeatured on our program will be writers who have appeared with us in the last 10 years. Think of this as a “reading sampler.” We hope you can join us for this special reading\, reception\, and book giveaway!\nReading will be James D. Autio\, Deborah Keenan\, Ed Bok Lee\, Ronald P. Leith\, Eric McKendry\, Anna George Meek\, Carter Meland\, Susan Power\, Sun Yung Shin\, and Morgan Grayce Willow
URL:https://www.michaelkiesowmoore.org/event/birchbark-books-reading-series-10-year-celebration/
LOCATION:Lake of the Isles Lutheran Church\, 2020 W Lake of the Isles Parkway\, Minneapolis\, MN\, 55405\, United States
END:VEVENT
BEGIN:VEVENT
DTSTART;TZID=America/Chicago:20190923T183000
DTEND;TZID=America/Chicago:20190923T203000
DTSTAMP:20260425T060754
CREATED:20190821T205524Z
LAST-MODIFIED:20190821T205524Z
UID:920-1569263400-1569270600@www.michaelkiesowmoore.org
SUMMARY:Workshop: Writing Mindfulness
DESCRIPTION:I will lead a writing workshop where we will explore the connections between the practice of mindfulness meditation and the act of writing from the heart. Making use of writing exercises and guided meditations we will give attention to ourselves\, our world\, and everything the present moment offers us. All writing skill levels are welcome. You do not need experience with meditation beforehand. Donations will be collected for Peacemaker Minnesota\, an anti-bullying program that helps schools be safer places.\n  \n 
URL:https://www.michaelkiesowmoore.org/event/workshop-writing-mindfulness-3/
LOCATION:Loft Literary Center\, 1011 Washington Avenue South\, Minneapolis\, MN\, 55415\, United States
END:VEVENT
BEGIN:VEVENT
DTSTART;TZID=America/Chicago:20190914T163000
DTEND;TZID=America/Chicago:20190914T180000
DTSTAMP:20260425T060754
CREATED:20190614T223535Z
LAST-MODIFIED:20190614T223535Z
UID:914-1568478600-1568484000@www.michaelkiesowmoore.org
SUMMARY:Reading: Nemeth Art Center in Park Rapids
DESCRIPTION:Join me at the Nemeth Art Center Center in Park Rapids\, MN for “Second Saturday Happening” as I join musicians and poets for an afternoon of words and music.
URL:https://www.michaelkiesowmoore.org/event/reading-nemeth-art-center-in-park-rapids/
LOCATION:Nemeth Art Center\, 301 Court Avenue\, Park Rapids\, MN\, 56470\, United States
END:VEVENT
BEGIN:VEVENT
DTSTART;TZID=America/Chicago:20190801T190000
DTEND;TZID=America/Chicago:20190801T203000
DTSTAMP:20260425T060754
CREATED:20190614T222805Z
LAST-MODIFIED:20190614T222805Z
UID:909-1564686000-1564691400@www.michaelkiesowmoore.org
SUMMARY:Reading: Queer Voices anthology at East Side Freedom Library
DESCRIPTION:Join me at the East Side Freedom Library as we we celebrate the publication of Queer Voices\, published by the Minnesota Historical Society Press. I and other readers will read our own work as well as our selections presented in the anthology.
URL:https://www.michaelkiesowmoore.org/event/reading-queer-voices-anthology-at-east-side-freedom-library/
LOCATION:East Side Freedom Library\, 1105 Greenbrier Street\, Saint Paul\, MN\, 55106\, United States
END:VEVENT
BEGIN:VEVENT
DTSTART;TZID=America/Chicago:20190618T190000
DTEND;TZID=America/Chicago:20190618T203000
DTSTAMP:20260425T060754
CREATED:20190614T221630Z
LAST-MODIFIED:20190614T221630Z
UID:907-1560884400-1560889800@www.michaelkiesowmoore.org
SUMMARY:Reading: Lovejets anthology launch at Quatrefoil Library
DESCRIPTION:Join us for Raymond Luczak’s book launch of Lovejets: Queer Male Poets on 200 years of Walt Whitman\, a Walt Whitman-inspired poetry anthology. I will join other local poets to read our work selected for the anthology as well as present poetry by those who are out of town. Raymond will also read from his new novel. Free\n 
URL:https://www.michaelkiesowmoore.org/event/reading-lovejets-anthology-launch-at-quatrefoil-library/
LOCATION:Quatrefoil Library\, 1220 E Lake St\, Minneapolis\, MN\, 55407\, United States
END:VEVENT
BEGIN:VEVENT
DTSTART;TZID=America/Chicago:20190608T100000
DTEND;TZID=America/Chicago:20190608T130000
DTSTAMP:20260425T060754
CREATED:20190519T010916Z
LAST-MODIFIED:20190519T010916Z
UID:902-1559988000-1559998800@www.michaelkiesowmoore.org
SUMMARY:Workshop: Writing Mindfulness
DESCRIPTION:We will explore the connections between the practice of mindfulness meditation and the act of writing from the heart. Making use of writing exercises and guided meditations we will give attention to ourselves\, our world\, and everything the present moment offers us. All writing skill levels are welcome. You do not need experience with meditation beforehand.\n  \n 
URL:https://www.michaelkiesowmoore.org/event/workshop-writing-mindfulness-2/
LOCATION:Banfill-Locke Art Center\, 6666 East River Road\, Fridley\, MN\, United States
END:VEVENT
BEGIN:VEVENT
DTSTART;TZID=America/Chicago:20190522T190000
DTEND;TZID=America/Chicago:20190522T203000
DTSTAMP:20260425T060754
CREATED:20190519T002320Z
LAST-MODIFIED:20190519T002320Z
UID:896-1558551600-1558557000@www.michaelkiesowmoore.org
SUMMARY:Reading: Birchbark Books Reading Series
DESCRIPTION:The spring season of readings at Birchbark Books continues on Wednesday\, May 22. Reading will be Jim Bohen\, Miriam Weinstein\, Ken McCullough\, and Lynette Reini-Grandell. Please join us!\n  \n 
URL:https://www.michaelkiesowmoore.org/event/reading-birchbark-books-reading-series-6/
LOCATION:Bockley Gallery\, 2123 W 21st Street \, Minneapolis\, MN\, 55405\, United States
END:VEVENT
BEGIN:VEVENT
DTSTART;TZID=America/Chicago:20190426T183000
DTEND;TZID=America/Chicago:20190426T210000
DTSTAMP:20260425T060754
CREATED:20190416T215117Z
LAST-MODIFIED:20190416T215117Z
UID:890-1556303400-1556312400@www.michaelkiesowmoore.org
SUMMARY:Reading: Poet-Artist Collaboration\, at Crossings in Zumbrota\, MN
DESCRIPTION:Join me as poets selected to participate in the 18th annual Poet-Artist Collaboration at Crossings at Carnegie present their work as the artwork made to go with our poems are projected on the silver screen during the reading.
URL:https://www.michaelkiesowmoore.org/event/reading-poet-artist-collaboration-at-crossings-in-zumbrota-mn/
LOCATION:Crossings at Carnegie\, 320 East Ave.\, Zumbrota\, 55992\, United States
END:VEVENT
BEGIN:VEVENT
DTSTART;TZID=America/Chicago:20190424T190000
DTEND;TZID=America/Chicago:20190424T203000
DTSTAMP:20260425T060754
CREATED:20190416T214546Z
LAST-MODIFIED:20190416T214546Z
UID:888-1556132400-1556137800@www.michaelkiesowmoore.org
SUMMARY:Reading: Birchbark Books Reading Series
DESCRIPTION:The Spring season of readings for the Birchbark Books Reading Series starts on April 24 at 7:00 pm at the Bockley Gallery (near Birchbark Books).\nReading will be Reading will be LeRoy N. Sorenson\, Rosemary Davis\, Carla Hagen\, and Kate Lynn Hibbard. \nBirchbark Books is located at 2115 West 21st Street\, Minneapolis\, MN 55405. (612) 374-4023
URL:https://www.michaelkiesowmoore.org/event/reading-birchbark-books-reading-series-5/
LOCATION:Bockley Gallery\, 2123 W 21st Street \, Minneapolis\, MN\, 55405\, United States
END:VEVENT
BEGIN:VEVENT
DTSTART;TZID=America/Chicago:20190420T090000
DTEND;TZID=America/Chicago:20190420T130000
DTSTAMP:20260425T060754
CREATED:20190416T214044Z
LAST-MODIFIED:20190416T214044Z
UID:886-1555750800-1555765200@www.michaelkiesowmoore.org
SUMMARY:Workshop: Writing Mindfulness
DESCRIPTION:We will explore the connections between the practice of mindfulness meditation and the act of writing from the heart. Making use of guided meditations and time for writing we will give attention to ourselves\, our world\, and everything the present moment offers us. \nThe class will also include readings and discussion. All writing skill levels are welcome\, and you do not need experience with meditation beforehand. Bring a bag lunch; we’ll have a short food break and dive into an added opportunity to put the principles of mindfulness into practice. Students will come away from this workshop with new work begun\, and tools to use for more mindful living and writing.
URL:https://www.michaelkiesowmoore.org/event/workshop-writing-mindfulness/
LOCATION:Loft Literary Center\, 1011 Washington Avenue South\, Minneapolis\, MN\, 55415\, United States
END:VEVENT
BEGIN:VEVENT
DTSTART;TZID=America/Chicago:20181111T150000
DTEND;TZID=America/Chicago:20181111T163000
DTSTAMP:20260425T060754
CREATED:20171008T030025Z
LAST-MODIFIED:20181020T213731Z
UID:778-1541948400-1541953800@www.michaelkiesowmoore.org
SUMMARY:Reading: Autumn Leaves\, an afternoon of poetry and music
DESCRIPTION:Join us for an afternoon of poetry and music with Thomas R. Smith\, Ardie Medina and the Asiginaak Singers\, and Michael Kiesow Moore with cellist Lars Krogstad Ortiz.\nSuggested donation $10\, but no one turned away \n 
URL:https://www.michaelkiesowmoore.org/event/reading-autumn-leaves-an-afternoon-of-poetry-and-music/
LOCATION:Quinn Violins\, 1081 21st Ave SE\, Minneapolis\, MN\, 55414\, United States
ATTACH;FMTTYPE=image/jpeg:https://www.michaelkiesowmoore.org/wp-content/uploads/2016/10/autumnal_background.jpg
END:VEVENT
END:VCALENDAR